BEGIN:VCALENDAR
VERSION:2.0
PRODID:-//Recollected Pieces - ECPv6.15.20//NONSGML v1.0//EN
CALSCALE:GREGORIAN
METHOD:PUBLISH
X-WR-CALNAME:Recollected Pieces
X-ORIGINAL-URL:https://www.recollectedpieces.com
X-WR-CALDESC:Events for Recollected Pieces
REFRESH-INTERVAL;VALUE=DURATION:PT1H
X-Robots-Tag:noindex
X-PUBLISHED-TTL:PT1H
BEGIN:VTIMEZONE
TZID:UTC
BEGIN:STANDARD
TZOFFSETFROM:+0000
TZOFFSETTO:+0000
TZNAME:UTC
DTSTART:20230101T000000
END:STANDARD
END:VTIMEZONE
BEGIN:VEVENT
DTSTART;TZID=UTC:20241206T100000
DTEND;TZID=UTC:20241206T190000
DTSTAMP:20260424T152748
CREATED:20240919T202001Z
LAST-MODIFIED:20240919T202001Z
UID:13608-1733479200-1733511600@www.recollectedpieces.com
SUMMARY:Duniway Home Tour Holiday Boutique
DESCRIPTION:Happening alongside the tour is the annual Duniway Holiday Boutique. Located in the Duniway Elementary School gym\, the Boutique features local wares and artists. \nThe Boutique is free to attend.
URL:https://www.recollectedpieces.com/event/duniway-boutique-120624/
LOCATION:Duniway Elementary School Gym\, 7700 SE Reed College Pl.\, Portland\, OR\, 97202\, United States
CATEGORIES:Craft Fair
ATTACH;FMTTYPE=image/png:https://www.recollectedpieces.com/wp-content/uploads/2024/09/Screenshot-2024-09-19-at-13-18-22-Holiday_Tour_Logo_Trans.png-PNG-Image-778-×-894-pixels-—-Scaled-98-e1726777186349.png
END:VEVENT
END:VCALENDAR