BEGIN:VCALENDAR
VERSION:2.0
PRODID:-//Recollected Pieces - ECPv6.15.20//NONSGML v1.0//EN
CALSCALE:GREGORIAN
METHOD:PUBLISH
X-ORIGINAL-URL:https://www.recollectedpieces.com
X-WR-CALDESC:Events for Recollected Pieces
REFRESH-INTERVAL;VALUE=DURATION:PT1H
X-Robots-Tag:noindex
X-PUBLISHED-TTL:PT1H
BEGIN:VTIMEZONE
TZID:UTC
BEGIN:STANDARD
TZOFFSETFROM:+0000
TZOFFSETTO:+0000
TZNAME:UTC
DTSTART:20230101T000000
END:STANDARD
END:VTIMEZONE
BEGIN:VEVENT
DTSTART;TZID=UTC:20241207T110000
DTEND;TZID=UTC:20241207T170000
DTSTAMP:20260424T152747
CREATED:20241024T211035Z
LAST-MODIFIED:20241105T212853Z
UID:13624-1733569200-1733590800@www.recollectedpieces.com
SUMMARY:Hip Chicks Holiday Market
DESCRIPTION:Support small artisan businesses by shopping local\, and do so with a glass of wine in hand! \nDrop by Hip Chicks Winery for our Hip Chicks Holiday Market Saturday December 2nd 11am – 5pm. Watch for a list of local artisans sampling and selling their products. \nWine tasting is only $15 this weekend or FREE if you bring a donation of food or personal hygiene items for Esther’s Pantry Food Bank. Plus special discounts on wine and our special Holiday Sangria!
URL:https://www.recollectedpieces.com/event/hip-chicks-holiday-market-1224/
LOCATION:Hip Chicks Do Wine\, 4510 SE 23rd Ave\, Portland\, OR\, 97202\, United States
CATEGORIES:Craft Fair
ATTACH;FMTTYPE=image/jpeg:https://www.recollectedpieces.com/wp-content/uploads/2024/10/HC-Holiday-Market-Facebook-Cover-2024.jpg
END:VEVENT
END:VCALENDAR