BEGIN:VCALENDAR
VERSION:2.0
PRODID:-//Recollected Pieces - ECPv6.15.20//NONSGML v1.0//EN
CALSCALE:GREGORIAN
METHOD:PUBLISH
X-WR-CALNAME:Recollected Pieces
X-ORIGINAL-URL:https://www.recollectedpieces.com
X-WR-CALDESC:Events for Recollected Pieces
REFRESH-INTERVAL;VALUE=DURATION:PT1H
X-Robots-Tag:noindex
X-PUBLISHED-TTL:PT1H
BEGIN:VTIMEZONE
TZID:UTC
BEGIN:STANDARD
TZOFFSETFROM:+0000
TZOFFSETTO:+0000
TZNAME:UTC
DTSTART:20230101T000000
END:STANDARD
END:VTIMEZONE
BEGIN:VEVENT
DTSTART;TZID=UTC:20241215T100000
DTEND;TZID=UTC:20241215T150000
DTSTAMP:20260424T152747
CREATED:20240916T215431Z
LAST-MODIFIED:20240916T215431Z
UID:13605-1734256800-1734274800@www.recollectedpieces.com
SUMMARY:Oregon Garden Holiday Bazaar
DESCRIPTION:The Oregon Garden’s holiday bazaar returns for its third year. Join for a family friendly holiday event that’s sure to please everyone – featuring a market of local artisans\, food and beverage\, holiday crafts\, festive live entertainment and more!
URL:https://www.recollectedpieces.com/event/or_garden_holiday_bazaar12141424/
LOCATION:Oregon Garden\, 879 W. Main St\, Silverton\, OR\, 97381\, United States
CATEGORIES:Craft Fair
ATTACH;FMTTYPE=image/webp:https://www.recollectedpieces.com/wp-content/uploads/2024/09/OG-Holiday-Bazaar.webp
ORGANIZER;CN="Oregon Garden":MAILTO:info@oregongardenfoundation.org
END:VEVENT
END:VCALENDAR