BEGIN:VCALENDAR
VERSION:2.0
PRODID:-//Recollected Pieces - ECPv6.15.20//NONSGML v1.0//EN
CALSCALE:GREGORIAN
METHOD:PUBLISH
X-WR-CALNAME:Recollected Pieces
X-ORIGINAL-URL:https://www.recollectedpieces.com
X-WR-CALDESC:Events for Recollected Pieces
REFRESH-INTERVAL;VALUE=DURATION:PT1H
X-Robots-Tag:noindex
X-PUBLISHED-TTL:PT1H
BEGIN:VTIMEZONE
TZID:UTC
BEGIN:STANDARD
TZOFFSETFROM:+0000
TZOFFSETTO:+0000
TZNAME:UTC
DTSTART:20240101T000000
END:STANDARD
END:VTIMEZONE
BEGIN:VEVENT
DTSTART;TZID=UTC:20250608T110000
DTEND;TZID=UTC:20250608T180000
DTSTAMP:20260424T065122
CREATED:20250319T231332Z
LAST-MODIFIED:20250319T231332Z
UID:13796-1749380400-1749405600@www.recollectedpieces.com
SUMMARY:Point Defiance Flower & Garden Festival 2025
DESCRIPTION:The Point Defiance Flower & Garden Festival is a showcase of gardening in the Pacific Northwest with hands-on programming\, demonstrations\, garden tours\, food trucks\, shopping\, lectures\, live music\, and a beer and wine garden. This indoor/outdoor event is perfect for expert gardeners\, budding plant lovers\, or those who just enjoy stopping to smelling the roses.
URL:https://www.recollectedpieces.com/event/point-defiance-060825/
LOCATION:Point Defiance Park\, 5400 N Pearl St\, Tacoma\, WA\, 98407\, United States
CATEGORIES:Community Event
ATTACH;FMTTYPE=image/jpeg:https://www.recollectedpieces.com/wp-content/uploads/2025/03/Point-Defiance-Flower-Garden-Festival-2025_6327__1732570745__fgf-banner-1.jpg
END:VEVENT
END:VCALENDAR