BEGIN:VCALENDAR
VERSION:2.0
PRODID:-//Recollected Pieces - ECPv6.15.20//NONSGML v1.0//EN
CALSCALE:GREGORIAN
METHOD:PUBLISH
X-ORIGINAL-URL:https://www.recollectedpieces.com
X-WR-CALDESC:Events for Recollected Pieces
REFRESH-INTERVAL;VALUE=DURATION:PT1H
X-Robots-Tag:noindex
X-PUBLISHED-TTL:PT1H
BEGIN:VTIMEZONE
TZID:UTC
BEGIN:STANDARD
TZOFFSETFROM:+0000
TZOFFSETTO:+0000
TZNAME:UTC
DTSTART:20240101T000000
END:STANDARD
END:VTIMEZONE
BEGIN:VEVENT
DTSTART;TZID=UTC:20251026T100000
DTEND;TZID=UTC:20251026T140000
DTSTAMP:20260423T234155
CREATED:20250926T160144Z
LAST-MODIFIED:20250926T160144Z
UID:14414-1761472800-1761487200@www.recollectedpieces.com
SUMMARY:Woodstock Farmers Market
DESCRIPTION:Neighborhood farmers market in SE Portland’s Woodstock neighborhood. Featuring local goodies\, and in October\, crafts too!
URL:https://www.recollectedpieces.com/event/wfm-102625/
LOCATION:Key Bank Woodstock\, 4600 SE Woodstock Blvd\, Portland\, OR\, 97206\, United States
CATEGORIES:Community Event
ATTACH;FMTTYPE=image/png:https://www.recollectedpieces.com/wp-content/uploads/2024/10/WoodstockFM.png
END:VEVENT
END:VCALENDAR