BEGIN:VCALENDAR
VERSION:2.0
PRODID:-//Recollected Pieces - ECPv6.15.20//NONSGML v1.0//EN
CALSCALE:GREGORIAN
METHOD:PUBLISH
X-WR-CALNAME:Recollected Pieces
X-ORIGINAL-URL:https://www.recollectedpieces.com
X-WR-CALDESC:Events for Recollected Pieces
REFRESH-INTERVAL;VALUE=DURATION:PT1H
X-Robots-Tag:noindex
X-PUBLISHED-TTL:PT1H
BEGIN:VTIMEZONE
TZID:UTC
BEGIN:STANDARD
TZOFFSETFROM:+0000
TZOFFSETTO:+0000
TZNAME:UTC
DTSTART:20240101T000000
END:STANDARD
END:VTIMEZONE
BEGIN:VEVENT
DTSTART;TZID=UTC:20251207T100000
DTEND;TZID=UTC:20251207T170000
DTSTAMP:20260423T221925
CREATED:20250823T051051Z
LAST-MODIFIED:20250823T051051Z
UID:14289-1765101600-1765126800@www.recollectedpieces.com
SUMMARY:Bird Alliance of Oregon’s 45th Wild Arts Festival
DESCRIPTION:Explore beautiful artwork\, nature-inspired books\, an array of silent auction items\, and much more. When you make a purchase at the Wild Arts Festival\, you’ll be supporting Bird Alliance of Oregon’s mission to inspire all people to love and protect birds\, wildlife\, and the natural environment upon which life depends. Find that piece of art you truly connect with as a gift for yourself or a loved one. \nAt the Wingspan Event Center at the Washington County Fairgrounds on December 6 and 7\, 2025 from 10 a.m. – 5 p.m. each day. The adjacent light rail and abundant parking makes your visit to the Festival even easier\, and Washington County offers abundant opportunities for getting out in nature. See you there!
URL:https://www.recollectedpieces.com/event/bird-alliance-of-oregons-45th-wild-arts-festival-120725/
LOCATION:Wingspan Event & Conference Center\, 801 NE 34th Ave.\, Hillsboro\, OR\, 97124\, United States
CATEGORIES:Community Event,Craft Fair
ATTACH;FMTTYPE=image/jpeg:https://www.recollectedpieces.com/wp-content/uploads/2025/08/WAF.jpeg
ORGANIZER;CN="Bird Alliance of Oregon":MAILTO:reception@birdallianceoregon.org
END:VEVENT
END:VCALENDAR