BEGIN:VCALENDAR
VERSION:2.0
PRODID:-//Recollected Pieces - ECPv6.15.20//NONSGML v1.0//EN
CALSCALE:GREGORIAN
METHOD:PUBLISH
X-WR-CALNAME:Recollected Pieces
X-ORIGINAL-URL:https://www.recollectedpieces.com
X-WR-CALDESC:Events for Recollected Pieces
REFRESH-INTERVAL;VALUE=DURATION:PT1H
X-Robots-Tag:noindex
X-PUBLISHED-TTL:PT1H
BEGIN:VTIMEZONE
TZID:UTC
BEGIN:STANDARD
TZOFFSETFROM:+0000
TZOFFSETTO:+0000
TZNAME:UTC
DTSTART:20240101T000000
END:STANDARD
END:VTIMEZONE
BEGIN:VEVENT
DTSTART;TZID=UTC:20251106T160000
DTEND;TZID=UTC:20251106T220000
DTSTAMP:20260424T002557
CREATED:20251009T181607Z
LAST-MODIFIED:20251009T181657Z
UID:14438-1762444800-1762466400@www.recollectedpieces.com
SUMMARY:Crafts & Cocktails at McMenamins Crystal Ballroom
DESCRIPTION:From the producers of First Thursday \nSip\, shop\, and celebrate Portland’s makers at Crafts & Cocktails\, a two-night holiday market inside the iconic McMenamins Crystal Ballroom. Discover 75+ local artists & vendors\, snag gift-worthy goods\, and soak up the cozy end-of-year vibes.
URL:https://www.recollectedpieces.com/event/crafts-cocktails-th25/
LOCATION:McMenamin’s Crystal Ballroom\, 1332 W Burnside St.\, Portland\, OR\, 97209\, United States
CATEGORIES:Community Event,Craft Fair
ATTACH;FMTTYPE=image/jpeg:https://www.recollectedpieces.com/wp-content/uploads/2025/10/CraftsnCocktails-Updated-scaled.jpg
END:VEVENT
BEGIN:VEVENT
DTSTART;TZID=UTC:20251107T160000
DTEND;TZID=UTC:20251107T220000
DTSTAMP:20260424T002557
CREATED:20251009T181830Z
LAST-MODIFIED:20251009T181830Z
UID:14442-1762531200-1762552800@www.recollectedpieces.com
SUMMARY:Crafts & Cocktails at McMenamins Crystal Ballroom
DESCRIPTION:From the producers of First Thursday \nSip\, shop\, and celebrate Portland’s makers at Crafts & Cocktails\, a two-night holiday market inside the iconic McMenamins Crystal Ballroom. Discover 75+ local artists & vendors\, snag gift-worthy goods\, and soak up the cozy end-of-year vibes.
URL:https://www.recollectedpieces.com/event/crafts-cocktails-fr25/
LOCATION:McMenamin’s Crystal Ballroom\, 1332 W Burnside St.\, Portland\, OR\, 97209\, United States
CATEGORIES:Community Event,Craft Fair
ATTACH;FMTTYPE=image/jpeg:https://www.recollectedpieces.com/wp-content/uploads/2025/10/CraftsnCocktails-Updated-scaled.jpg
END:VEVENT
BEGIN:VEVENT
DTSTART;TZID=UTC:20251108T100000
DTEND;TZID=UTC:20251108T170000
DTSTAMP:20260424T002557
CREATED:20250823T050514Z
LAST-MODIFIED:20250823T050536Z
UID:14282-1762596000-1762621200@www.recollectedpieces.com
SUMMARY:Art in the Burbs 2025
DESCRIPTION:Support the future of the arts in the Tigard-Tualatin area \n\n\n\n\nArt in the Burbs was purposefully and creatively designed to weave local artists with student artists. During the show\, 20% of each artist’s sales will be retained to benefit The Foundation for Tigard Tualatin Schools’ Art in the Burbs Grant program. Grants are awarded to each of the district’s schools to use only in their arts programs – writing\, music\, fine art\, and performing arts. The Foundation is a 501(c)3 organization. \nArt in the Burbs provides a financial vehicle to enrich students’ lives through the arts. Click the button below to see how proceeds from last year’s show were used at your local school.
URL:https://www.recollectedpieces.com/event/art-in-the-burbs-110825/
LOCATION:Tigard High School\, 9000 SW Durham Rd\, Tigard\, OR\, 97224\, United States
CATEGORIES:Community Event,Craft Fair
ATTACH;FMTTYPE=image/jpeg:https://www.recollectedpieces.com/wp-content/uploads/2025/08/ArtsintheBurbs.jpeg
ORGANIZER;CN="The Foundation for Tigard Tualatin Schools%E2%80%99":MAILTO:info@the-ftts.org
END:VEVENT
BEGIN:VEVENT
DTSTART;TZID=UTC:20251109T100000
DTEND;TZID=UTC:20251109T170000
DTSTAMP:20260424T002557
CREATED:20250823T050749Z
LAST-MODIFIED:20250823T050834Z
UID:14287-1762682400-1762707600@www.recollectedpieces.com
SUMMARY:Art in the Burbs 2025
DESCRIPTION:Support the future of the arts in the Tigard-Tualatin area \n\n\n\n\nArt in the Burbs was purposefully and creatively designed to weave local artists with student artists. During the show\, 20% of each artist’s sales will be retained to benefit The Foundation for Tigard Tualatin Schools’ Art in the Burbs Grant program. Grants are awarded to each of the district’s schools to use only in their arts programs – writing\, music\, fine art\, and performing arts. The Foundation is a 501(c)3 organization. \nArt in the Burbs provides a financial vehicle to enrich students’ lives through the arts. Click the button below to see how proceeds from last year’s show were used at your local school.
URL:https://www.recollectedpieces.com/event/art-in-the-burbs-110925/
LOCATION:Tigard High School\, 9000 SW Durham Rd\, Tigard\, OR\, 97224\, United States
CATEGORIES:Community Event,Craft Fair
ATTACH;FMTTYPE=image/jpeg:https://www.recollectedpieces.com/wp-content/uploads/2025/08/ArtsintheBurbs.jpeg
ORGANIZER;CN="The Foundation for Tigard Tualatin Schools%E2%80%99":MAILTO:info@the-ftts.org
END:VEVENT
BEGIN:VEVENT
DTSTART;TZID=UTC:20251123T100000
DTEND;TZID=UTC:20251123T140000
DTSTAMP:20260424T002557
CREATED:20250926T160347Z
LAST-MODIFIED:20250926T160347Z
UID:14416-1763892000-1763906400@www.recollectedpieces.com
SUMMARY:Woodstock Farmers Harvest Market
DESCRIPTION:Harvest Market in SE Portland’s Woodstock neighborhood. Featuring local food\, beverages\, crafts and more!
URL:https://www.recollectedpieces.com/event/wfm-112325/
LOCATION:Key Bank Woodstock\, 4600 SE Woodstock Blvd\, Portland\, OR\, 97206\, United States
CATEGORIES:Community Event
ATTACH;FMTTYPE=image/png:https://www.recollectedpieces.com/wp-content/uploads/2024/10/WoodstockFM.png
END:VEVENT
BEGIN:VEVENT
DTSTART;TZID=UTC:20251129T100000
DTEND;TZID=UTC:20251129T160000
DTSTAMP:20260424T002557
CREATED:20251016T025155Z
LAST-MODIFIED:20251016T025155Z
UID:14291-1764410400-1764432000@www.recollectedpieces.com
SUMMARY:Lake Oswego High School Holiday Bazaar
DESCRIPTION:Kick off your holiday season shopping from the 80+ local vendors at the Lake Oswego High School Holiday Bazaar from 10am-4pm on Saturday\, November 29\, 2025. No entry fee and you’ll be supporting small businesses on Small Business Saturday. See you there!
URL:https://www.recollectedpieces.com/event/lohs-holiday-bazaar-112925/
LOCATION:Lake Oswego High School\, 2501 Country Club Rd.\, Lake Oswego\, OR\, 97034\, United States
CATEGORIES:Community Event,Craft Fair
ATTACH;FMTTYPE=image/png:https://www.recollectedpieces.com/wp-content/uploads/2025/08/LOHS-Holiday-Bazaar.png
END:VEVENT
END:VCALENDAR