BEGIN:VCALENDAR
VERSION:2.0
PRODID:-//Recollected Pieces - ECPv6.15.20//NONSGML v1.0//EN
CALSCALE:GREGORIAN
METHOD:PUBLISH
X-ORIGINAL-URL:https://www.recollectedpieces.com
X-WR-CALDESC:Events for Recollected Pieces
REFRESH-INTERVAL;VALUE=DURATION:PT1H
X-Robots-Tag:noindex
X-PUBLISHED-TTL:PT1H
BEGIN:VTIMEZONE
TZID:UTC
BEGIN:STANDARD
TZOFFSETFROM:+0000
TZOFFSETTO:+0000
TZNAME:UTC
DTSTART:20240101T000000
END:STANDARD
END:VTIMEZONE
BEGIN:VEVENT
DTSTART;TZID=UTC:20250725T100000
DTEND;TZID=UTC:20250725T160000
DTSTAMP:20260424T072125
CREATED:20250816T063452Z
LAST-MODIFIED:20250816T063452Z
UID:14224-1753437600-1753459200@www.recollectedpieces.com
SUMMARY:Summer Flowers at Wooden Shoe
DESCRIPTION:In 2024\, the Wooden Shoe Tulip Farm held their first annual Summer Flowers event showcasing a stunning 10-acre flower field of Sunflowers\, Zinnias\, Bachelor Button\, Calendula\, pink and white Cosmos\, and Godetia Lilac.  Guests were able to purchase u-pick flowers\, stroll through the sunflower maze\, take pictures at photo props throughout the fields\, and enjoy kids’ activities. \nThat was the beginning of a new tradition on the farm of offering sweet summer sunrises and sunsets over fields of summer flowers. Come enjoy the farm in mid-July until late August as they expand on this new tradition. Now offering 30 acres of summer blooms\, u-pick\, as well as shopping and food. Bring your sun hat and join in! \nVendors include Raw Oregon Honey and Zoe Jones Designs\, as well as Recollected Pieces. Check my calendar for the dates I will be there.
URL:https://www.recollectedpieces.com/event/summer-flowers-at-wooden-shoe-072525/
LOCATION:Wooden Shoe Tulip Farm\, 33814 S. Meridian Rd.\, Woodburn\, OR\, 97071\, United States
CATEGORIES:Community Event
ATTACH;FMTTYPE=image/png:https://www.recollectedpieces.com/wp-content/uploads/2025/08/event-covers-for-RP.png
END:VEVENT
END:VCALENDAR