BEGIN:VCALENDAR
VERSION:2.0
PRODID:-//Recollected Pieces - ECPv6.15.20//NONSGML v1.0//EN
CALSCALE:GREGORIAN
METHOD:PUBLISH
X-ORIGINAL-URL:https://www.recollectedpieces.com
X-WR-CALDESC:Events for Recollected Pieces
REFRESH-INTERVAL;VALUE=DURATION:PT1H
X-Robots-Tag:noindex
X-PUBLISHED-TTL:PT1H
BEGIN:VTIMEZONE
TZID:UTC
BEGIN:STANDARD
TZOFFSETFROM:+0000
TZOFFSETTO:+0000
TZNAME:UTC
DTSTART:20240101T000000
END:STANDARD
END:VTIMEZONE
BEGIN:VEVENT
DTSTART;TZID=UTC:20251214T100000
DTEND;TZID=UTC:20251214T160000
DTSTAMP:20260424T003213
CREATED:20251016T032155Z
LAST-MODIFIED:20251024T175940Z
UID:14465-1765706400-1765728000@www.recollectedpieces.com
SUMMARY:Scanfair 2025
DESCRIPTION:ScanFair is a Nordic Christmas market held at the Oregon Convention Center the weekend of December 13–14\, 2025. Hosted by Nordic Northwest at the Oregon Convention Center\, it features traditional Nordic food\, drinks\, and vendors selling crafts and gifts\, along with a cultural heritage entertainment program
URL:https://www.recollectedpieces.com/event/scanfair-121425/
LOCATION:Oregon Convention Center\, 777 NE Martin Luther King Jr Blvd\, Portland\, OR\, 97232\, United States
CATEGORIES:Community Event,Craft Fair
ATTACH;FMTTYPE=image/jpeg:https://www.recollectedpieces.com/wp-content/uploads/2025/10/Scan-Fair-Partner-Promo-Material_Social-Media-Square-2.jpg
END:VEVENT
END:VCALENDAR