BEGIN:VCALENDAR
VERSION:2.0
PRODID:-//Recollected Pieces - ECPv6.15.20//NONSGML v1.0//EN
CALSCALE:GREGORIAN
METHOD:PUBLISH
X-ORIGINAL-URL:https://www.recollectedpieces.com
X-WR-CALDESC:Events for Recollected Pieces
REFRESH-INTERVAL;VALUE=DURATION:PT1H
X-Robots-Tag:noindex
X-PUBLISHED-TTL:PT1H
BEGIN:VTIMEZONE
TZID:UTC
BEGIN:STANDARD
TZOFFSETFROM:+0000
TZOFFSETTO:+0000
TZNAME:UTC
DTSTART:20250101T000000
END:STANDARD
END:VTIMEZONE
BEGIN:VEVENT
DTSTART;TZID=UTC:20260405T100000
DTEND;TZID=UTC:20260405T170000
DTSTAMP:20260423T190310
CREATED:20251229T221255Z
LAST-MODIFIED:20251229T221255Z
UID:14653-1775383200-1775408400@www.recollectedpieces.com
SUMMARY:Wooden Shoe Tulip Festival
DESCRIPTION:Oregon’s favorite springtime event. From hot air balloons\, wine tastings\, and specialty gift shop to food & craft market\, children’s play area\, and endless photo opportunities. Come and see one of Oregon’s most beautiful events.
URL:https://www.recollectedpieces.com/event/tulips-0405326/
LOCATION:Wooden Shoe Tulip Farm\, 33814 S. Meridian Rd.\, Woodburn\, OR\, 97071\, United States
CATEGORIES:Community Event,Oregon,Spring
ATTACH;FMTTYPE=image/png:https://www.recollectedpieces.com/wp-content/uploads/2025/12/1.png
END:VEVENT
END:VCALENDAR