BEGIN:VCALENDAR
VERSION:2.0
PRODID:-//Recollected Pieces - ECPv6.15.20//NONSGML v1.0//EN
CALSCALE:GREGORIAN
METHOD:PUBLISH
X-ORIGINAL-URL:https://www.recollectedpieces.com
X-WR-CALDESC:Events for Recollected Pieces
REFRESH-INTERVAL;VALUE=DURATION:PT1H
X-Robots-Tag:noindex
X-PUBLISHED-TTL:PT1H
BEGIN:VTIMEZONE
TZID:UTC
BEGIN:STANDARD
TZOFFSETFROM:+0000
TZOFFSETTO:+0000
TZNAME:UTC
DTSTART:20250101T000000
END:STANDARD
END:VTIMEZONE
BEGIN:VEVENT
DTSTART;TZID=UTC:20260614T090000
DTEND;TZID=UTC:20260614T160000
DTSTAMP:20260423T233627
CREATED:20260415T174247Z
LAST-MODIFIED:20260415T174311Z
UID:15033-1781427600-1781452800@www.recollectedpieces.com
SUMMARY:McMinnville Garden Faire
DESCRIPTION:The Garden Faire features more than 70 garden- themed vendors and is open to the public at NO CHARGE. The Faire is from 9 am to 4 pm and is located in Historic Downtown McMinnville (Cowls St. between 1st and 3rd Streets). \nVendors include traditional and specialty plant growers. Due to the earlier date of the Sunday before Father’s Day\, there will be more plants available for purchase. Other vendors include amazing garden art\, wearable art (clothing and jewelry)\, furniture\, art\, flowers\, and wonderful items for your garden.
URL:https://www.recollectedpieces.com/event/mcminnville-garden-faire-061426/
LOCATION:McMinnville Downtown Historic District\, Cowls St. between 1st and 3rd Streets\, McMinnville\, OR\, 97128
CATEGORIES:Art Show,Community Event,Craft Fair,Oregon
ATTACH;FMTTYPE=image/png:https://www.recollectedpieces.com/wp-content/uploads/2026/04/event-covers-for-RP3.png
END:VEVENT
BEGIN:VEVENT
DTSTART;TZID=UTC:20260702T170000
DTEND;TZID=UTC:20260702T210000
DTSTAMP:20260423T233627
CREATED:20260415T165451Z
LAST-MODIFIED:20260415T165451Z
UID:15022-1783011600-1783026000@www.recollectedpieces.com
SUMMARY:July First Thursday (in the Pearl)
DESCRIPTION:The First Thursday Street Gallery takes place in NW Portland on 13th street between Irving and Lovejoy from 5 p.m. to 9 p.m showcasing original\, hand-made artwork by local area artists.
URL:https://www.recollectedpieces.com/event/first-thursday-070226/
LOCATION:First Thursday Street Gallery\, NW 13th street between Irving and Lovejoy\, Portland\, OR\, 97209\, United States
CATEGORIES:Community Event,Oregon,Summer
END:VEVENT
BEGIN:VEVENT
DTSTART;TZID=UTC:20260806T170000
DTEND;TZID=UTC:20260806T210000
DTSTAMP:20260423T233627
CREATED:20260415T165702Z
LAST-MODIFIED:20260415T165702Z
UID:15024-1786035600-1786050000@www.recollectedpieces.com
SUMMARY:August First Thursday (in the Pearl)
DESCRIPTION:The First Thursday Street Gallery takes place in NW Portland on 13th street between Irving and Lovejoy from 5 p.m. to 9 p.m showcasing original\, hand-made artwork by local area artists.
URL:https://www.recollectedpieces.com/event/first-thursday-080626/
LOCATION:First Thursday Street Gallery\, NW 13th street between Irving and Lovejoy\, Portland\, OR\, 97209\, United States
CATEGORIES:Community Event,Craft Fair,Oregon,Summer
ATTACH;FMTTYPE=image/png:https://www.recollectedpieces.com/wp-content/uploads/2026/04/event-covers-for-RP1.png
END:VEVENT
BEGIN:VEVENT
DTSTART;TZID=UTC:20260903T170000
DTEND;TZID=UTC:20260903T210000
DTSTAMP:20260423T233627
CREATED:20260415T165933Z
LAST-MODIFIED:20260415T165943Z
UID:15026-1788454800-1788469200@www.recollectedpieces.com
SUMMARY:September First Thursday (in the Pearl)
DESCRIPTION:The First Thursday Street Gallery takes place in NW Portland on 13th street between Irving and Lovejoy from 5 p.m. to 9 p.m showcasing original\, hand-made artwork by local area artists.
URL:https://www.recollectedpieces.com/event/first-thursday-090326/
LOCATION:First Thursday Street Gallery\, NW 13th street between Irving and Lovejoy\, Portland\, OR\, 97209\, United States
CATEGORIES:Community Event,Craft Fair,Oregon
ATTACH;FMTTYPE=image/png:https://www.recollectedpieces.com/wp-content/uploads/2026/04/event-covers-for-RP1.png
END:VEVENT
BEGIN:VEVENT
DTSTART;TZID=UTC:20261001T170000
DTEND;TZID=UTC:20261001T210000
DTSTAMP:20260423T233627
CREATED:20260415T170113Z
LAST-MODIFIED:20260415T170113Z
UID:15028-1790874000-1790888400@www.recollectedpieces.com
SUMMARY:October First Thursday (in the Pearl)
DESCRIPTION:The First Thursday Street Gallery takes place in NW Portland on 13th street between Irving and Lovejoy from 5 p.m. to 9 p.m showcasing original\, hand-made artwork by local area artists.
URL:https://www.recollectedpieces.com/event/first-thursday-100126/
LOCATION:First Thursday Street Gallery\, NW 13th street between Irving and Lovejoy\, Portland\, OR\, 97209\, United States
CATEGORIES:Community Event,Craft Fair,Oregon
ATTACH;FMTTYPE=image/png:https://www.recollectedpieces.com/wp-content/uploads/2026/04/event-covers-for-RP1.png
END:VEVENT
END:VCALENDAR