BEGIN:VCALENDAR
VERSION:2.0
PRODID:-//Recollected Pieces - ECPv6.15.20//NONSGML v1.0//EN
CALSCALE:GREGORIAN
METHOD:PUBLISH
X-ORIGINAL-URL:https://www.recollectedpieces.com
X-WR-CALDESC:Events for Recollected Pieces
REFRESH-INTERVAL;VALUE=DURATION:PT1H
X-Robots-Tag:noindex
X-PUBLISHED-TTL:PT1H
BEGIN:VTIMEZONE
TZID:UTC
BEGIN:STANDARD
TZOFFSETFROM:+0000
TZOFFSETTO:+0000
TZNAME:UTC
DTSTART:20230101T000000
END:STANDARD
END:VTIMEZONE
BEGIN:VEVENT
DTSTART;TZID=UTC:20240622T100000
DTEND;TZID=UTC:20240622T130000
DTSTAMP:20260425T035841
CREATED:20240422T212748Z
LAST-MODIFIED:20240422T212748Z
UID:13542-1719050400-1719061200@www.recollectedpieces.com
SUMMARY:Tualatin Pride Stride
DESCRIPTION:Festive welcome and warm up event at 10am. Stride begins at 10:30am. Before and after the Stride attendees will have access to fun activities such as music\, collaborative art\, food vendors\, and LGBTQIA+ support organizations. \nThe Stride itself is an approximately 1 mile walk that will follow sidewalks and start and end at the Tualatin Commons. The route is accessible for wheelchair and stroller users.
URL:https://www.recollectedpieces.com/event/tualatin-pride-stride2024/
LOCATION:Tualatin Commons on the Lake\, 8325 SW Nyberg St\, Tualatin\, OR\, Tualatin\, OR\, 97062\, United States
CATEGORIES:Community Event,Craft Fair
ATTACH;FMTTYPE=image/png:https://www.recollectedpieces.com/wp-content/uploads/2024/04/Pride-Stride-FB-Banner.png
ORGANIZER;CN="Tualatin Together":MAILTO:info@tualatintogether.org
END:VEVENT
BEGIN:VEVENT
DTSTART;TZID=UTC:20240622T120000
DTEND;TZID=UTC:20240622T170000
DTSTAMP:20260425T035841
CREATED:20240510T163157Z
LAST-MODIFIED:20240510T163326Z
UID:13550-1719057600-1719075600@www.recollectedpieces.com
SUMMARY:Foster Summer Soiree
DESCRIPTION:Join the fun on Saturday\, June 22nd on SE Foster Road! \nThe 2024 Foster Summer Soiree will bring live entertainment and vendors to Laurelwood Park\, special activations at several Foster businesses\, sidewalk sales\, and other festivities.
URL:https://www.recollectedpieces.com/event/foster-summer-soiree/
LOCATION:Laurelwood Park\, 6421 SE Foster Rd\, Portland\, OR\, 97206\, United States
CATEGORIES:Community Event,Craft Fair
ATTACH;FMTTYPE=image/jpeg:https://www.recollectedpieces.com/wp-content/uploads/2024/05/FABA-Summer-Soiree_Square-Web-e1684867813632-800x480-1.jpg
ORGANIZER;CN="Foster Area Business Association":MAILTO:fosterarea@gmail.com
END:VEVENT
END:VCALENDAR