BEGIN:VCALENDAR
VERSION:2.0
PRODID:-//Recollected Pieces - ECPv6.15.20//NONSGML v1.0//EN
CALSCALE:GREGORIAN
METHOD:PUBLISH
X-WR-CALNAME:Recollected Pieces
X-ORIGINAL-URL:https://www.recollectedpieces.com
X-WR-CALDESC:Events for Recollected Pieces
REFRESH-INTERVAL;VALUE=DURATION:PT1H
X-Robots-Tag:noindex
X-PUBLISHED-TTL:PT1H
BEGIN:VTIMEZONE
TZID:UTC
BEGIN:STANDARD
TZOFFSETFROM:+0000
TZOFFSETTO:+0000
TZNAME:UTC
DTSTART:20240101T000000
END:STANDARD
END:VTIMEZONE
BEGIN:VEVENT
DTSTART;TZID=UTC:20250510T100000
DTEND;TZID=UTC:20250510T180000
DTSTAMP:20260424T120203
CREATED:20250409T211329Z
LAST-MODIFIED:20250415T190003Z
UID:13827-1746871200-1746900000@www.recollectedpieces.com
SUMMARY:St. Johns Bizarre
DESCRIPTION:The St. Johns Bizarre — “the only Portland street festival that matters” — returns May 10\, 2025!\n\nThe beloved St. Johns Bizarre returns Saturday\, May 10\, 2025\, from 10 a.m. to 7 p.m. in downtown St. Johns! (N. Philadelphia and N. Lombard — and all across the surrounding blocks!) There will be a dynamite lineup of musicians\, artisans\, makers\, creators\, food vendors\, community groups\, and more\, all ready to go — so you can sing\, dance\, eat\, shop\, and make merry ’til your heart’s delight.\n\nI’ll be sharing a booth with my amazing art friend – Sparkles & Shades – come and get sparkly!
URL:https://www.recollectedpieces.com/event/st-johns-bizarre-25/
LOCATION:St. Johns\, 97203\, United States
CATEGORIES:Community Event,Craft Fair
ATTACH;FMTTYPE=image/jpeg:https://www.recollectedpieces.com/wp-content/uploads/2025/04/Instagram_2025.jpeg
ORGANIZER;CN="St. Johns Bizarre":MAILTO:info@stjohnsbizarre.com
END:VEVENT
END:VCALENDAR