BEGIN:VCALENDAR
VERSION:2.0
PRODID:-//Recollected Pieces - ECPv6.15.20//NONSGML v1.0//EN
CALSCALE:GREGORIAN
METHOD:PUBLISH
X-ORIGINAL-URL:https://www.recollectedpieces.com
X-WR-CALDESC:Events for Recollected Pieces
REFRESH-INTERVAL;VALUE=DURATION:PT1H
X-Robots-Tag:noindex
X-PUBLISHED-TTL:PT1H
BEGIN:VTIMEZONE
TZID:UTC
BEGIN:STANDARD
TZOFFSETFROM:+0000
TZOFFSETTO:+0000
TZNAME:UTC
DTSTART:20250101T000000
END:STANDARD
END:VTIMEZONE
BEGIN:VEVENT
DTSTART;TZID=UTC:20260517T100000
DTEND;TZID=UTC:20260517T160000
DTSTAMP:20260423T202306
CREATED:20260216T031658Z
LAST-MODIFIED:20260216T031726Z
UID:14805-1779012000-1779033600@www.recollectedpieces.com
SUMMARY:Cascadia Fine Arts Festival 2026
DESCRIPTION:Drive the scenic Old Historic Columbia River Highway as it hugs the Gorge on the Oregon side of the majestic Columbia River. This dramatic landscape of soaring basalt cliffs\, shimmering rivers and waterfalls\, and lush forests has inspired generations of Pacific Northwest artists. The Cascadia Fine Arts Festival (formerly the Troutdale Arts Festival) has evolved into a dynamic display for the arts.  Each year\, the city welcomes a growing number of visitors to celebrate one of the most anticipated artistic gatherings in the region.
URL:https://www.recollectedpieces.com/event/cascadia-fine-arts-festival-sun26/
LOCATION:Downtown Troutdale\, E Historic Columbia River Hwy\, Troutdale\, 97060\, United States
CATEGORIES:Community Event,Oregon,Spring
ATTACH;FMTTYPE=image/avif:https://www.recollectedpieces.com/wp-content/uploads/2026/02/CFAF-Gorge-Logo_large.avif
END:VEVENT
END:VCALENDAR