BEGIN:VCALENDAR
VERSION:2.0
PRODID:-//Recollected Pieces - ECPv6.15.20//NONSGML v1.0//EN
CALSCALE:GREGORIAN
METHOD:PUBLISH
X-WR-CALNAME:Recollected Pieces
X-ORIGINAL-URL:https://www.recollectedpieces.com
X-WR-CALDESC:Events for Recollected Pieces
REFRESH-INTERVAL;VALUE=DURATION:PT1H
X-Robots-Tag:noindex
X-PUBLISHED-TTL:PT1H
BEGIN:VTIMEZONE
TZID:UTC
BEGIN:STANDARD
TZOFFSETFROM:+0000
TZOFFSETTO:+0000
TZNAME:UTC
DTSTART:20250101T000000
END:STANDARD
END:VTIMEZONE
BEGIN:VEVENT
DTSTART;TZID=UTC:20260419T100000
DTEND;TZID=UTC:20260419T170000
DTSTAMP:20260423T233232
CREATED:20251229T222020Z
LAST-MODIFIED:20251229T222020Z
UID:14661-1776592800-1776618000@www.recollectedpieces.com
SUMMARY:Wooden Shoe Tulip Festival
DESCRIPTION:Oregon’s favorite springtime event. From hot air balloons\, wine tastings\, and specialty gift shop to food & craft market\, children’s play area\, and endless photo opportunities. Come and see one of Oregon’s most beautiful events.
URL:https://www.recollectedpieces.com/event/tulips-041926/
LOCATION:Wooden Shoe Tulip Farm\, 33814 S. Meridian Rd.\, Woodburn\, OR\, 97071\, United States
CATEGORIES:Community Event,Oregon,Spring
ATTACH;FMTTYPE=image/png:https://www.recollectedpieces.com/wp-content/uploads/2025/12/1.png
END:VEVENT
BEGIN:VEVENT
DTSTART;TZID=UTC:20260425T100000
DTEND;TZID=UTC:20260425T180000
DTSTAMP:20260423T233232
CREATED:20251229T222135Z
LAST-MODIFIED:20251229T222153Z
UID:14663-1777111200-1777140000@www.recollectedpieces.com
SUMMARY:Wooden Shoe Tulip Festival
DESCRIPTION:Oregon’s favorite springtime event. From hot air balloons\, wine tastings\, and specialty gift shop to food & craft market\, children’s play area\, and endless photo opportunities. Come and see one of Oregon’s most beautiful events.
URL:https://www.recollectedpieces.com/event/tulips-042526/
LOCATION:Wooden Shoe Tulip Farm\, 33814 S. Meridian Rd.\, Woodburn\, OR\, 97071\, United States
CATEGORIES:Community Event,Oregon,Spring
ATTACH;FMTTYPE=image/png:https://www.recollectedpieces.com/wp-content/uploads/2025/12/1.png
END:VEVENT
BEGIN:VEVENT
DTSTART;TZID=UTC:20260426T100000
DTEND;TZID=UTC:20260426T170000
DTSTAMP:20260423T233232
CREATED:20251229T222322Z
LAST-MODIFIED:20251229T222322Z
UID:14665-1777197600-1777222800@www.recollectedpieces.com
SUMMARY:Wooden Shoe Tulip Festival
DESCRIPTION:Oregon’s favorite springtime event. From hot air balloons\, wine tastings\, and specialty gift shop to food & craft market\, children’s play area\, and endless photo opportunities. Come and see one of Oregon’s most beautiful events.
URL:https://www.recollectedpieces.com/event/tulips-042626/
LOCATION:Wooden Shoe Tulip Farm\, 33814 S. Meridian Rd.\, Woodburn\, OR\, 97071\, United States
CATEGORIES:Community Event,Oregon,Spring
ATTACH;FMTTYPE=image/png:https://www.recollectedpieces.com/wp-content/uploads/2025/12/1.png
END:VEVENT
BEGIN:VEVENT
DTSTART;TZID=UTC:20260503T000000
DTEND;TZID=UTC:20260503T000000
DTSTAMP:20260423T233232
CREATED:20260415T153522Z
LAST-MODIFIED:20260415T170704Z
UID:15012-1777766400-1777766400@www.recollectedpieces.com
SUMMARY:Rieke Art Fair
DESCRIPTION:From art created from vintage objects to prints paintings\, candles\, ceramics\, jewelry\, toys\, and so much more- you are sure to find one-of-a-kind meaningful gifts (for yourself or others!) all handmade in our community.
URL:https://www.recollectedpieces.com/event/rieke-art-fair-050326/
LOCATION:OR
CATEGORIES:Art Show,Community Event,Craft Fair,Oregon,Spring
ATTACH;FMTTYPE=image/png:https://www.recollectedpieces.com/wp-content/uploads/2026/04/event-covers-for-RP.png
END:VEVENT
BEGIN:VEVENT
DTSTART;TZID=UTC:20260509T100000
DTEND;TZID=UTC:20260509T180000
DTSTAMP:20260423T233232
CREATED:20260415T171700Z
LAST-MODIFIED:20260415T171700Z
UID:15030-1778320800-1778349600@www.recollectedpieces.com
SUMMARY:St. Johns Bizarre
DESCRIPTION:The St. Johns Bizarre — “the only Portland street festival that matters” — returns May 9\, 2026\, for its 17th year! \nThe beloved St. Johns Bizarre returns Saturday\, May 9\, 2026 in downtown St. Johns! (Find us at N. Philadelphia and N. Lombard — and all across the surrounding blocks!) We’ll be serving up another a dynamite lineup of musicians\, artisans\, makers\, creators\, food vendors\, community groups\, and more\, all ready to go — so you can sing\, dance\, eat\, shop\, and make merry ’til your heart’s delight. But as excited as we are to return for our 17th year\, we also want to keep the party going year after year. That’s where you come in! If you’re able\, please donate and help us ensure we can make the Bizarre one of the stalwart institutions that makes St. Johns so special! Thanks\, and we can’t wait to see you!
URL:https://www.recollectedpieces.com/event/st-johns-bizarre/
LOCATION:St. Johns\, 97203\, United States
CATEGORIES:Community Event,Craft Fair,Oregon,Spring
ATTACH;FMTTYPE=image/png:https://www.recollectedpieces.com/wp-content/uploads/2026/04/event-covers-for-RP2.png
ORGANIZER;CN="St. Johns Bizarre":MAILTO:info@stjohnsbizarre.com
END:VEVENT
BEGIN:VEVENT
DTSTART;TZID=UTC:20260516T110000
DTEND;TZID=UTC:20260516T180000
DTSTAMP:20260423T233232
CREATED:20260216T031400Z
LAST-MODIFIED:20260216T031705Z
UID:14798-1778929200-1778954400@www.recollectedpieces.com
SUMMARY:Cascadia Fine Arts Festival 2026
DESCRIPTION:Drive the scenic Old Historic Columbia River Highway as it hugs the Gorge on the Oregon side of the majestic Columbia River. This dramatic landscape of soaring basalt cliffs\, shimmering rivers and waterfalls\, and lush forests has inspired generations of Pacific Northwest artists. The Cascadia Fine Arts Festival (formerly the Troutdale Arts Festival) has evolved into a dynamic display for the arts.  Each year\, the city welcomes a growing number of visitors to celebrate one of the most anticipated artistic gatherings in the region.
URL:https://www.recollectedpieces.com/event/cascadia-fine-arts-festival-sat26/
LOCATION:Downtown Troutdale\, E Historic Columbia River Hwy\, Troutdale\, 97060\, United States
CATEGORIES:Community Event,Oregon,Spring
ATTACH;FMTTYPE=image/avif:https://www.recollectedpieces.com/wp-content/uploads/2026/02/CFAF-Gorge-Logo_large.avif
END:VEVENT
BEGIN:VEVENT
DTSTART;TZID=UTC:20260517T100000
DTEND;TZID=UTC:20260517T160000
DTSTAMP:20260423T233232
CREATED:20260216T031658Z
LAST-MODIFIED:20260216T031726Z
UID:14805-1779012000-1779033600@www.recollectedpieces.com
SUMMARY:Cascadia Fine Arts Festival 2026
DESCRIPTION:Drive the scenic Old Historic Columbia River Highway as it hugs the Gorge on the Oregon side of the majestic Columbia River. This dramatic landscape of soaring basalt cliffs\, shimmering rivers and waterfalls\, and lush forests has inspired generations of Pacific Northwest artists. The Cascadia Fine Arts Festival (formerly the Troutdale Arts Festival) has evolved into a dynamic display for the arts.  Each year\, the city welcomes a growing number of visitors to celebrate one of the most anticipated artistic gatherings in the region.
URL:https://www.recollectedpieces.com/event/cascadia-fine-arts-festival-sun26/
LOCATION:Downtown Troutdale\, E Historic Columbia River Hwy\, Troutdale\, 97060\, United States
CATEGORIES:Community Event,Oregon,Spring
ATTACH;FMTTYPE=image/avif:https://www.recollectedpieces.com/wp-content/uploads/2026/02/CFAF-Gorge-Logo_large.avif
END:VEVENT
BEGIN:VEVENT
DTSTART;TZID=UTC:20260523T090000
DTEND;TZID=UTC:20260523T180000
DTSTAMP:20260423T233232
CREATED:20260225T232742Z
LAST-MODIFIED:20260225T233500Z
UID:14843-1779526800-1779559200@www.recollectedpieces.com
SUMMARY:Schreiner's Gardens: 2026 Artist Fair
DESCRIPTION:In the heart of Oregon’s Willamette Valley Schreiner’s Gardens cultivates over 150 acres of top-quality\, beautiful iris. Their dedication to breeding and growing the finest iris in the world began in 1925 in Minnesota by our grandfather F.X. Schreiner. Since that time\, with years of love and dedication from the entire family\, their business has grown significantly\, and today Oregon is the largest grower of iris in the United States. For four generations they have been family owned and operated; hybridizing\, growing and distributing thousands of iris annually.  Join the thousands of satisfied iris lovers who have watched their gardens burst into bloom with top-quality iris from Schreiner’s Gardens. \n\n\nVisit the Farm – Maps & Directions\nBloom Season – In early May each year\, they open their 10-acre display gardens and expansive iris fields to the public for about 3 weeks. Make a tour of Schreiner’s Iris Gardens one of your springtime traditions. During bloom season\, the display gardens are open from 9:00 a.m. to 6:00 p.m.\, rain or shine.
URL:https://www.recollectedpieces.com/event/schreiners-gardens-052326/
LOCATION:Schreiner’s Gardens\, 3625 Quinaby Road NE\, Salem\, OR\, 97303\, United States
CATEGORIES:Art Show,Community Event,Oregon,Spring
ATTACH;FMTTYPE=image/png:https://www.recollectedpieces.com/wp-content/uploads/2026/02/event-covers-for-RP.png
END:VEVENT
BEGIN:VEVENT
DTSTART;TZID=UTC:20260524T090000
DTEND;TZID=UTC:20260524T180000
DTSTAMP:20260423T233232
CREATED:20260225T233313Z
LAST-MODIFIED:20260225T233615Z
UID:14849-1779613200-1779645600@www.recollectedpieces.com
SUMMARY:Schreiner's Gardens: 2026 Artist Fair
DESCRIPTION:In the heart of Oregon’s Willamette Valley Schreiner’s Gardens cultivates over 150 acres of top-quality\, beautiful iris. Their dedication to breeding and growing the finest iris in the world began in 1925 in Minnesota by our grandfather F.X. Schreiner. Since that time\, with years of love and dedication from the entire family\, their business has grown significantly\, and today Oregon is the largest grower of iris in the United States. For four generations they have been family owned and operated; hybridizing\, growing and distributing thousands of iris annually.  Join the thousands of satisfied iris lovers who have watched their gardens burst into bloom with top-quality iris from Schreiner’s Gardens. \n\n\nVisit the Farm – Maps & Directions\nBloom Season – In early May each year\, they open their 10-acre display gardens and expansive iris fields to the public for about 3 weeks. Make a tour of Schreiner’s Iris Gardens one of your springtime traditions. During bloom season\, the display gardens are open from 9:00 a.m. to 6:00 p.m.\, rain or shine.
URL:https://www.recollectedpieces.com/event/schreiners-gardens-052426/
LOCATION:Schreiner’s Gardens\, 3625 Quinaby Road NE\, Salem\, OR\, 97303\, United States
CATEGORIES:Art Show,Community Event,Oregon,Spring
ATTACH;FMTTYPE=image/png:https://www.recollectedpieces.com/wp-content/uploads/2026/02/event-covers-for-RP.png
END:VEVENT
BEGIN:VEVENT
DTSTART;TZID=UTC:20260525T090000
DTEND;TZID=UTC:20260525T180000
DTSTAMP:20260423T233232
CREATED:20260225T233000Z
LAST-MODIFIED:20260225T233545Z
UID:14846-1779699600-1779732000@www.recollectedpieces.com
SUMMARY:Schreiner's Gardens: 2026 Artist Fair
DESCRIPTION:In the heart of Oregon’s Willamette Valley Schreiner’s Gardens cultivates over 150 acres of top-quality\, beautiful iris. Their dedication to breeding and growing the finest iris in the world began in 1925 in Minnesota by our grandfather F.X. Schreiner. Since that time\, with years of love and dedication from the entire family\, their business has grown significantly\, and today Oregon is the largest grower of iris in the United States. For four generations they have been family owned and operated; hybridizing\, growing and distributing thousands of iris annually.  Join the thousands of satisfied iris lovers who have watched their gardens burst into bloom with top-quality iris from Schreiner’s Gardens. \n\n\nVisit the Farm – Maps & Directions\nBloom Season – In early May each year\, they open their 10-acre display gardens and expansive iris fields to the public for about 3 weeks. Make a tour of Schreiner’s Iris Gardens one of your springtime traditions. During bloom season\, the display gardens are open from 9:00 a.m. to 6:00 p.m.\, rain or shine.
URL:https://www.recollectedpieces.com/event/schreiners-gardens-052526/
LOCATION:Schreiner’s Gardens\, 3625 Quinaby Road NE\, Salem\, OR\, 97303\, United States
CATEGORIES:Art Show,Community Event,Oregon,Spring
ATTACH;FMTTYPE=image/png:https://www.recollectedpieces.com/wp-content/uploads/2026/02/event-covers-for-RP.png
END:VEVENT
BEGIN:VEVENT
DTSTART;TZID=UTC:20260605T100000
DTEND;TZID=UTC:20260605T180000
DTSTAMP:20260423T233232
CREATED:20260216T032839Z
LAST-MODIFIED:20260218T043949Z
UID:14809-1780653600-1780682400@www.recollectedpieces.com
SUMMARY:Sorticulture\, Everett's garden arts festival
DESCRIPTION:Sorticulture\, Everett’s Garden Festival\, is a three-day celebration of the best parts of Pacific Northwest outdoor living. Hosted in the seaside city of Everett\, WA\, Sorticulture is the premier festival for garden art\, local plants and flowers\, and handmade outdoor products. From classical to whimsical\, abstract to figurative\, Sorticulture features fountains\, trellises\, iron and cement sculpture\, found objects\, mosaics and more! \nSorticulture is free to attend.
URL:https://www.recollectedpieces.com/event/sorticulture-060526/
LOCATION:Sorticulture\, Colby Avenue from Everett to Pacific Avenue\, Everett\, WA\, 98201
CATEGORIES:Art Show,Community Event,Spring,Washington
ATTACH;FMTTYPE=image/png:https://www.recollectedpieces.com/wp-content/uploads/2026/02/Sorticulture-2026-scaled.png
END:VEVENT
BEGIN:VEVENT
DTSTART;TZID=UTC:20260606T100000
DTEND;TZID=UTC:20260606T180000
DTSTAMP:20260423T233232
CREATED:20260216T033050Z
LAST-MODIFIED:20260218T043930Z
UID:14814-1780740000-1780768800@www.recollectedpieces.com
SUMMARY:Sorticulture\, Everett's garden arts festival
DESCRIPTION:Sorticulture\, Everett’s Garden Festival\, is a three-day celebration of the best parts of Pacific Northwest outdoor living. Hosted in the seaside city of Everett\, WA\, Sorticulture is the premier festival for garden art\, local plants and flowers\, and handmade outdoor products. From classical to whimsical\, abstract to figurative\, Sorticulture features fountains\, trellises\, iron and cement sculpture\, found objects\, mosaics and more! \nSorticulture is free to attend.
URL:https://www.recollectedpieces.com/event/sorticulture-060626/
LOCATION:Sorticulture\, Colby Avenue from Everett to Pacific Avenue\, Everett\, WA\, 98201
CATEGORIES:Art Show,Community Event,Spring,Washington
ATTACH;FMTTYPE=image/png:https://www.recollectedpieces.com/wp-content/uploads/2026/02/Sorticulture-2026-scaled.png
END:VEVENT
BEGIN:VEVENT
DTSTART;TZID=UTC:20260607T100000
DTEND;TZID=UTC:20260607T160000
DTSTAMP:20260423T233232
CREATED:20260216T033316Z
LAST-MODIFIED:20260218T043852Z
UID:14816-1780826400-1780848000@www.recollectedpieces.com
SUMMARY:Sorticulture\, Everett's garden arts festival
DESCRIPTION:Sorticulture\, Everett’s Garden Festival\, is a three-day celebration of the best parts of Pacific Northwest outdoor living. Hosted in the seaside city of Everett\, WA\, Sorticulture is the premier festival for garden art\, local plants and flowers\, and handmade outdoor products. From classical to whimsical\, abstract to figurative\, Sorticulture features fountains\, trellises\, iron and cement sculpture\, found objects\, mosaics and more! \nSorticulture is free to attend.
URL:https://www.recollectedpieces.com/event/sorticulture-060726/
LOCATION:Sorticulture\, Colby Avenue from Everett to Pacific Avenue\, Everett\, WA\, 98201
CATEGORIES:Art Show,Community Event,Spring,Washington
ATTACH;FMTTYPE=image/png:https://www.recollectedpieces.com/wp-content/uploads/2026/02/Sorticulture-2026-scaled.png
END:VEVENT
END:VCALENDAR