BEGIN:VCALENDAR
VERSION:2.0
PRODID:-//Recollected Pieces - ECPv6.15.20//NONSGML v1.0//EN
CALSCALE:GREGORIAN
METHOD:PUBLISH
X-WR-CALNAME:Recollected Pieces
X-ORIGINAL-URL:https://www.recollectedpieces.com
X-WR-CALDESC:Events for Recollected Pieces
REFRESH-INTERVAL;VALUE=DURATION:PT1H
X-Robots-Tag:noindex
X-PUBLISHED-TTL:PT1H
BEGIN:VTIMEZONE
TZID:UTC
BEGIN:STANDARD
TZOFFSETFROM:+0000
TZOFFSETTO:+0000
TZNAME:UTC
DTSTART:20180101T000000
END:STANDARD
END:VTIMEZONE
BEGIN:VTIMEZONE
TZID:America/Los_Angeles
BEGIN:DAYLIGHT
TZOFFSETFROM:-0800
TZOFFSETTO:-0700
TZNAME:PDT
DTSTART:20180311T100000
END:DAYLIGHT
BEGIN:STANDARD
TZOFFSETFROM:-0700
TZOFFSETTO:-0800
TZNAME:PST
DTSTART:20181104T090000
END:STANDARD
BEGIN:DAYLIGHT
TZOFFSETFROM:-0800
TZOFFSETTO:-0700
TZNAME:PDT
DTSTART:20190310T100000
END:DAYLIGHT
BEGIN:STANDARD
TZOFFSETFROM:-0700
TZOFFSETTO:-0800
TZNAME:PST
DTSTART:20191103T090000
END:STANDARD
BEGIN:DAYLIGHT
TZOFFSETFROM:-0800
TZOFFSETTO:-0700
TZNAME:PDT
DTSTART:20200308T100000
END:DAYLIGHT
BEGIN:STANDARD
TZOFFSETFROM:-0700
TZOFFSETTO:-0800
TZNAME:PST
DTSTART:20201101T090000
END:STANDARD
END:VTIMEZONE
BEGIN:VEVENT
DTSTART;TZID=UTC:20191201T090000
DTEND;TZID=UTC:20191201T160000
DTSTAMP:20260425T111902
CREATED:20191123T171350Z
LAST-MODIFIED:20191123T171350Z
UID:3228-1575190800-1575216000@www.recollectedpieces.com
SUMMARY:Mushi's Monsters at Laurelhurst Winter Bazaar
DESCRIPTION:Mushi’s Monster’s is thrilled to be a vendor at this local annual event! Come see all the amazing local made products – including new monsters from Mushi! \nFundraiser for Laurelhurst School’s PTA\, Dec. 1\, 2019. 100+ local artisans & crafters\, raffle\, silent auction\, bake sale & food trucks\, and wreath sale.
URL:https://www.recollectedpieces.com/event/mm-at-laurelhurst-winter-bazaar-2019/
LOCATION:OR
CATEGORIES:Craft Fair
ATTACH;FMTTYPE=image/jpeg:https://www.recollectedpieces.com/wp-content/uploads/2019/11/Laurelhurst-Winter-Bazaar-2.jpg
ORGANIZER;CN="Laurelhurst School PTA":MAILTO:laurelhurstschoolbazaar@gmail.com
END:VEVENT
BEGIN:VEVENT
DTSTART;TZID=UTC:20191130T100000
DTEND;TZID=UTC:20191130T140000
DTSTAMP:20260425T111902
CREATED:20191121T044051Z
LAST-MODIFIED:20191204T043513Z
UID:3120-1575108000-1575122400@www.recollectedpieces.com
SUMMARY:11/31/19 Beaded Snowflake Workshop (SE PDX)
DESCRIPTION:Join the fun and come to make some beautiful beaded holiday ornaments with me at the Portland Craft Bar in SE PDX. These easy-to-make beaded snowflakes are not only beautiful but also fun to make for friends\, family members or to use as stocking stuffers.\n\n\n\n\n\nAll events are drop-in but space is limited and pre-registration is highly encouraged. Kids\, grownups\, young and old – all ages welcome\, though highly recommended for ages 3 and up. Parents must stay with child while attending. Families should plan for about an hour and a half of creative time.\n\nClass includes all supplies to make three beaded snowflake ornaments. Additional ornaments can be purchased at the event for $10 each.\n\nLight snacks and non-alcoholic beverages will also be provided.\n\n\nTwo dates to choose from in SE at the Portland Craft Bar:\nSaturday\, November 30 – 10:00 AM – 2:00 PM (click here to register)\nSunday\, December 22 – 1:30 – 4:30 PM (click here to register)\n\n\n\n\nRegistration: $25
URL:https://www.recollectedpieces.com/event/beaded-snowflake-workshop-113019/
LOCATION:Portland Craft Bar\, 211 SE Madison St\, Ste #3\, Portland\, OR\, 97214
CATEGORIES:Workshop
ATTACH;FMTTYPE=image/png:https://www.recollectedpieces.com/wp-content/uploads/2019/11/Youre-beautiful.png
ORGANIZER;CN="Recollected Pieces Jewelry":MAILTO:recollectedpieces@gmail.com
END:VEVENT
BEGIN:VEVENT
DTSTART;TZID=UTC:20191123T110000
DTEND;TZID=UTC:20191123T130000
DTSTAMP:20260425T111902
CREATED:20191121T042414Z
LAST-MODIFIED:20191121T042414Z
UID:3107-1574506800-1574514000@www.recollectedpieces.com
SUMMARY:Resin & Clay Ornaments
DESCRIPTION:Learn to create one-of-a-kind ornaments using epoxy clay\, silicone molds\, and colorized resin with me at the Portland Craft Bar this holiday. You’ll learn how to work with a silicone mold\, epoxy clay and two-part resin to create pieces that have the appearance of glazed porcelain. \nEach participant will get to make two ornaments with your very own unique designs! This class is family-friendly for kids 10 and up. Bring a kid or come on your own! \n*Finished ornaments will be ready for pick up 48 hours after class- or have it shipped to you. 
URL:https://www.recollectedpieces.com/event/resin-clay-ornaments-112319/
LOCATION:Portland Craft Bar\, 211 SE Madison St\, Ste #3\, Portland\, OR\, 97214
CATEGORIES:Workshop
ATTACH;FMTTYPE=image/jpeg:https://www.recollectedpieces.com/wp-content/uploads/2019/11/IMG_7305.jpg
ORGANIZER;CN="Recollected Pieces Jewelry":MAILTO:recollectedpieces@gmail.com
END:VEVENT
BEGIN:VEVENT
DTSTART;TZID=UTC:20191019T110000
DTEND;TZID=UTC:20191019T130000
DTSTAMP:20260425T111902
CREATED:20191002T185618Z
LAST-MODIFIED:20191008T035903Z
UID:1917-1571482800-1571490000@www.recollectedpieces.com
SUMMARY:Resin Botanical Jewelry Making Class
DESCRIPTION:Learn to create gorgeous one-of-a-kind jewelry pieces using resin and dried flowers and leaves with me at Portland Craft Bar. You’ll learn how to work with two part resin\, colorize it and add dried botanicals for beautiful\, lasting unique creations! Each participant will get to make two pendants\, two pairs of earrings\, one pendant and one pair of earrings\, or a pair of cuff links with your very own unique designs!  \nClass Includes:  \n\nChoice of quality metal frames to make: 2 pendants\, 2 pairs of earrings\, 1 pendant and 1 pair of earrings\, or 1 pair of cuff links \nResin\, colorants\, and dried botanicals \nAll findings to complete jewelry pieces (e.g. chains for pendants\, ear wires for earrings\, etc.) \nSnacks and N/A drinks; Over 21: BYO wine\, beer\, cider \n\nYour resin will need to cure\, so items will be available for pick up 48 hours after class. You may instead pay for shipping ($5) at class time and we will send you your items to save you the trip!
URL:https://www.recollectedpieces.com/event/resin-botanical-jewelry-making-class/
LOCATION:Portland Craft Bar\, 211 SE Madison St\, Ste #3\, Portland\, OR\, 97214
CATEGORIES:Workshop
ATTACH;FMTTYPE=image/jpeg:https://www.recollectedpieces.com/wp-content/uploads/2019/10/ResinBotanicals.jpg
ORGANIZER;CN="Recollected Pieces Jewelry":MAILTO:recollectedpieces@gmail.com
END:VEVENT
BEGIN:VEVENT
DTSTART;TZID=UTC:20191017T183000
DTEND;TZID=UTC:20191017T203000
DTSTAMP:20260425T111902
CREATED:20191002T182844Z
LAST-MODIFIED:20191008T035651Z
UID:1913-1571337000-1571344200@www.recollectedpieces.com
SUMMARY:Skeleton Leaf Resin Jewelry Making Class
DESCRIPTION:Learn to create gorgeous one-of-a-kind jewelry pieces using clay\, resin and dried skeleton leaves with me at the Portland Craft Bar. You’ll learn how to work with epoxy clay\, two part resin\, and add dried skeleton leaves for beautiful\, lasting unique creations! Each participant will get to make two pendants\, two pairs of earrings\, one pendant and one pair of earrings\, or a pair of cuff links with your very own unique designs!  \nClass Includes:  \n\nChoice of quality metal frames to make: 2 pendants\, 2 pairs of earrings\, 1 pendant and 1 pair of earrings\, or 1 pair of cuff links \nResin\, clay\, and skeleton leaves \nAll findings to complete jewelry pieces (e.g. chains for pendants\, ear wires for earrings\, etc.) \nSnacks and N/A drinks; Over 21: BYO wine\, beer\, cider \n\nYour resin will need to cure\, so items will be available for pick up 48 hours after class. You may instead pay for shipping ($5) at class time and we will send you your items to save you the trip!
URL:https://www.recollectedpieces.com/event/skeleton-leaf-resin-jewelry-making-class/
LOCATION:Portland Craft Bar\, 211 SE Madison St\, Ste #3\, Portland\, OR\, 97214
CATEGORIES:Workshop
ATTACH;FMTTYPE=image/jpeg:https://www.recollectedpieces.com/wp-content/uploads/2019/10/SkeletonLeaves.jpg
ORGANIZER;CN="Recollected Pieces Jewelry":MAILTO:recollectedpieces@gmail.com
END:VEVENT
BEGIN:VEVENT
DTSTART;TZID=America/Los_Angeles:20190929T150000
DTEND;TZID=America/Los_Angeles:20190929T170000
DTSTAMP:20260425T111902
CREATED:20190826T004635Z
LAST-MODIFIED:20190826T004635Z
UID:1273-1569769200-1569776400@www.recollectedpieces.com
SUMMARY:Crystal Clay & Colorized Resin Jewelry at Portland Craft Bar
DESCRIPTION:Learn to create gorgeous one-of-a-kind jewelry pieces using epoxy clay\, silicone molds\, and colorized resin with Tabitha Rhodes of Recollected Pieces. You’ll learn how to work with a silicone mold\, epoxy clay and two-part resin to create pieces that have the appearance of faux glazed porcelain. Each participant will get to make two pendants\, two pairs of earrings\, 1 pendant and 1 pair of earrings\, or a pair of cuff links with your very own unique designs! \nClass Includes: \n\nChoice of quality metal frames to make: 2 pendants\, 2 pairs of earrings\, 1 pendant and 1 pair of earrings\, or 1 pair of cuff links\nResin\, colorants\, and silicone molds\nAll findings to complete jewelry pieces (e.g. chains for pendants\, ear wires for earrings\, etc.)\nSnacks and N/A drinks; Over 21: BYO wine\, beer\, cider\n\nYour resin will need to cure\, so items will be available for pick up 48 hours after class. You may instead pay for shipping ($5) at class time and we will send you your items to save you the trip!
URL:https://www.recollectedpieces.com/event/crystal-clay-colorized-resin-jewelry-at-portland-craft-bar/
LOCATION:Portland Craft Bar\, 211 SE Madison St\, Ste #3\, Portland\, OR\, 97214
ORGANIZER;CN="Recollected Pieces Jewelry":MAILTO:recollectedpieces@gmail.com
END:VEVENT
BEGIN:VEVENT
DTSTART;TZID=UTC:20190926T183000
DTEND;TZID=UTC:20190926T200000
DTSTAMP:20260425T111902
CREATED:20190826T005056Z
LAST-MODIFIED:20190826T005056Z
UID:1279-1569522600-1569528000@www.recollectedpieces.com
SUMMARY:Resin Botanical Jewelry at Portland Craft Bar
DESCRIPTION:Learn to create gorgeous one-of-a-kind jewelry pieces using resin and dried flowers and leaves with Tabitha Rhodes of Recollected Pieces. You’ll learn how to work with two part resin\, colorize it and add dried botanicals for beautiful\, lasting unique creations! Each participant will get to make two pendants\, two pairs of earrings\, one pendant and one pair of earrings\, or a pair of cuff links with your very own unique designs! \nClass Includes: \n\nChoice of quality metal frames to make: 2 pendants\, 2 pairs of earrings\, 1 pendant and 1 pair of earrings\, or 1 pair of cuff links\nResin\, colorants\, and dried botanicals\nAll findings to complete jewelry pieces (e.g. chains for pendants\, ear wires for earrings\, etc.)\nSnacks and N/A drinks; Over 21: BYO wine\, beer\, cider\n\nYour resin will need to cure\, so items will be available for pick up 48 hours after class. You may instead pay for shipping ($5) at class time and we will send you your items to save you the trip!
URL:https://www.recollectedpieces.com/event/resin-botanical-jewelry-at-portland-craft-bar/
LOCATION:Portland Craft Bar\, 211 SE Madison St\, Ste #3\, Portland\, OR\, 97214
ORGANIZER;CN="Recollected Pieces Jewelry":MAILTO:recollectedpieces@gmail.com
END:VEVENT
BEGIN:VEVENT
DTSTART;TZID=America/Los_Angeles:20190914T150000
DTEND;TZID=America/Los_Angeles:20190914T170000
DTSTAMP:20260425T111902
CREATED:20190826T004855Z
LAST-MODIFIED:20190826T004855Z
UID:1277-1568473200-1568480400@www.recollectedpieces.com
SUMMARY:Pearlized Resin Jewelry at Portland Craft Bar
DESCRIPTION:Learn to create gorgeous one-of-a-kind jewelry pieces using mica powder\, epoxy clay\, and colorized resin with Tabitha Rhodes of Recollected Pieces. You’ll learn how to colorize and work with epoxy clay and two-part resin to create the look of beautiful gemstone jewelry. Each participant will get to make two pendants\, two pairs of earrings\, 1 pendant and 1 pair of earrings\, or a pair of cuff links with your very own unique designs! \nClass Includes: \n\nChoice of quality metal frames to make: 2 pendants\, 2 pairs of earrings\, 1 pendant and 1 pair of earrings\, or 1 pair of cuff links\nResin\, colorants\, epoxy clay and mica powders\nAll findings to complete jewelry pieces (e.g. chains for pendants\, ear wires for earrings\, etc.)\nSnacks and N/A drinks; Over 21: BYO wine\, beer\, cider\n\nYour resin will need to cure\, so items will be available for pick up 48 hours after class. You may instead pay for shipping ($5) at class time and we will send you your items to save you the trip!
URL:https://www.recollectedpieces.com/event/pearlized-resin-jewelry-at-portland-craft-bar/
LOCATION:Portland Craft Bar\, 211 SE Madison St\, Ste #3\, Portland\, OR\, 97214
ORGANIZER;CN="Recollected Pieces Jewelry":MAILTO:recollectedpieces@gmail.com
END:VEVENT
BEGIN:VEVENT
DTSTART;TZID=America/Los_Angeles:20190912T183000
DTEND;TZID=America/Los_Angeles:20190912T200000
DTSTAMP:20260425T111902
CREATED:20190826T004127Z
LAST-MODIFIED:20190826T004503Z
UID:1270-1568313000-1568318400@www.recollectedpieces.com
SUMMARY:Crystal Clay and Colorized Resin Jewelry at Portland Craft Bar
DESCRIPTION:Learn to create gorgeous one-of-a-kind jewelry pieces using epoxy clay\, silicone molds\, and colorized resin with Tabitha Rhodes of Recollected Pieces. You’ll learn how to work with a silicone mold\, epoxy clay and two-part resin to create pieces that have the appearance of faux glazed porcelain. Each participant will get to make two pendants\, two pairs of earrings\, 1 pendant and 1 pair of earrings\, or a pair of cuff links with your very own unique designs! \nClass Includes: \n\nChoice of quality metal frames to make: 2 pendants\, 2 pairs of earrings\, 1 pendant and 1 pair of earrings\, or 1 pair of cuff links\nResin\, colorants\, and silicone molds\nAll findings to complete jewelry pieces (e.g. chains for pendants\, ear wires for earrings\, etc.)\nSnacks and N/A drinks; Over 21: BYO wine\, beer\, cider\n\nYour resin will need to cure\, so items will be available for pick up 48 hours after class. You may instead pay for shipping ($5) at class time and we will send you your items to save you the trip!
URL:https://www.recollectedpieces.com/event/crystal-clay-and-colorized-resin-jewelry-at-portland-craft-bar/
LOCATION:Portland Craft Bar\, 211 SE Madison St\, Ste #3\, Portland\, OR\, 97214
ORGANIZER;CN="Recollected Pieces Jewelry":MAILTO:recollectedpieces@gmail.com
END:VEVENT
END:VCALENDAR