BEGIN:VCALENDAR
VERSION:2.0
PRODID:-//Recollected Pieces - ECPv6.15.20//NONSGML v1.0//EN
CALSCALE:GREGORIAN
METHOD:PUBLISH
X-ORIGINAL-URL:https://www.recollectedpieces.com
X-WR-CALDESC:Events for Recollected Pieces
REFRESH-INTERVAL;VALUE=DURATION:PT1H
X-Robots-Tag:noindex
X-PUBLISHED-TTL:PT1H
BEGIN:VTIMEZONE
TZID:UTC
BEGIN:STANDARD
TZOFFSETFROM:+0000
TZOFFSETTO:+0000
TZNAME:UTC
DTSTART:20220101T000000
END:STANDARD
END:VTIMEZONE
BEGIN:VEVENT
DTSTART;TZID=UTC:20230210T180000
DTEND;TZID=UTC:20230210T210000
DTSTAMP:20260425T215152
CREATED:20230204T203645Z
LAST-MODIFIED:20230204T203645Z
UID:13295-1676052000-1676062800@www.recollectedpieces.com
SUMMARY:Galentines at Hip Chicks do Wine
DESCRIPTION:Round up your girlfriends and join me for a Galentines Day event! Wine & Sangria available by the glass with a yummy small plate menu. Shop with local vendors. \n 
URL:https://www.recollectedpieces.com/event/galentines-at-hip-chicks-do-wine/
LOCATION:Hip Chicks Do Wine\, 4510 SE 23rd Ave\, Portland\, OR\, 97202\, United States
CATEGORIES:Craft Fair
ATTACH;FMTTYPE=image/jpeg:https://www.recollectedpieces.com/wp-content/uploads/2023/02/Pink-Minimalist-Valentines-Day-Facebook-Event-Cover.jpg
END:VEVENT
END:VCALENDAR