BEGIN:VCALENDAR
VERSION:2.0
PRODID:-//Recollected Pieces - ECPv6.15.20//NONSGML v1.0//EN
CALSCALE:GREGORIAN
METHOD:PUBLISH
X-WR-CALNAME:Recollected Pieces
X-ORIGINAL-URL:https://www.recollectedpieces.com
X-WR-CALDESC:Events for Recollected Pieces
REFRESH-INTERVAL;VALUE=DURATION:PT1H
X-Robots-Tag:noindex
X-PUBLISHED-TTL:PT1H
BEGIN:VTIMEZONE
TZID:UTC
BEGIN:STANDARD
TZOFFSETFROM:+0000
TZOFFSETTO:+0000
TZNAME:UTC
DTSTART:20220101T000000
END:STANDARD
END:VTIMEZONE
BEGIN:VEVENT
DTSTART;TZID=UTC:20230318T080000
DTEND;TZID=UTC:20230318T190000
DTSTAMP:20260425T203229
CREATED:20230601T021514Z
LAST-MODIFIED:20230601T021718Z
UID:13292-1679126400-1679166000@www.recollectedpieces.com
SUMMARY:Wooden Shoe Tulip Festival
DESCRIPTION:I’m so excited to returning to Woodburn for the Wooden Shoe Tulip Festival in 2023! \nI will be there on Saturdays and Sundays from March 18 – May 7. Can’t wait to see you there! \nClick here for more information about this incredible event.
URL:https://www.recollectedpieces.com/event/2023-tulip-festival-031823/
LOCATION:Wooden Shoe Tulip Farm\, 33814 S. Meridian Rd.\, Woodburn\, OR\, 97071\, United States
CATEGORIES:Craft Fair
ATTACH;FMTTYPE=image/jpeg:https://www.recollectedpieces.com/wp-content/uploads/2023/06/tulip-fest.jpeg
END:VEVENT
BEGIN:VEVENT
DTSTART;TZID=UTC:20230319T080000
DTEND;TZID=UTC:20230319T190000
DTSTAMP:20260425T203229
CREATED:20230601T021617Z
LAST-MODIFIED:20230601T021741Z
UID:13300-1679212800-1679252400@www.recollectedpieces.com
SUMMARY:Wooden Shoe Tulip Festival
DESCRIPTION:I’m so excited to returning to Woodburn for the Wooden Shoe Tulip Festival in 2023! \nI will be there on Saturdays and Sundays from March 18 – May 7. Can’t wait to see you there! \nClick here for more information about this incredible event.
URL:https://www.recollectedpieces.com/event/2023-tulip-festival-031923/
LOCATION:Wooden Shoe Tulip Farm\, 33814 S. Meridian Rd.\, Woodburn\, OR\, 97071\, United States
CATEGORIES:Craft Fair
ATTACH;FMTTYPE=image/jpeg:https://www.recollectedpieces.com/wp-content/uploads/2023/06/tulip-fest.jpeg
END:VEVENT
BEGIN:VEVENT
DTSTART;TZID=UTC:20230325T080000
DTEND;TZID=UTC:20230325T190000
DTSTAMP:20260425T203229
CREATED:20230601T021851Z
LAST-MODIFIED:20230601T021851Z
UID:13303-1679731200-1679770800@www.recollectedpieces.com
SUMMARY:Wooden Shoe Tulip Festival
DESCRIPTION:I’m so excited to returning to Woodburn for the Wooden Shoe Tulip Festival in 2023! \nI will be there on Saturdays and Sundays from March 18 – May 7. Can’t wait to see you there! \nClick here for more information about this incredible event.
URL:https://www.recollectedpieces.com/event/2023-tulip-festival-032523/
LOCATION:Wooden Shoe Tulip Farm\, 33814 S. Meridian Rd.\, Woodburn\, OR\, 97071\, United States
CATEGORIES:Craft Fair
ATTACH;FMTTYPE=image/jpeg:https://www.recollectedpieces.com/wp-content/uploads/2023/06/tulip-fest.jpeg
END:VEVENT
BEGIN:VEVENT
DTSTART;TZID=UTC:20230326T080000
DTEND;TZID=UTC:20230326T190000
DTSTAMP:20260425T203229
CREATED:20230601T021927Z
LAST-MODIFIED:20230601T021927Z
UID:13305-1679817600-1679857200@www.recollectedpieces.com
SUMMARY:Wooden Shoe Tulip Festival
DESCRIPTION:I’m so excited to returning to Woodburn for the Wooden Shoe Tulip Festival in 2023! \nI will be there on Saturdays and Sundays from March 18 – May 7. Can’t wait to see you there! \nClick here for more information about this incredible event.
URL:https://www.recollectedpieces.com/event/2023-tulip-festival-032623/
LOCATION:Wooden Shoe Tulip Farm\, 33814 S. Meridian Rd.\, Woodburn\, OR\, 97071\, United States
CATEGORIES:Craft Fair
ATTACH;FMTTYPE=image/jpeg:https://www.recollectedpieces.com/wp-content/uploads/2023/06/tulip-fest.jpeg
END:VEVENT
END:VCALENDAR