BEGIN:VCALENDAR
VERSION:2.0
PRODID:-//Recollected Pieces - ECPv6.15.20//NONSGML v1.0//EN
CALSCALE:GREGORIAN
METHOD:PUBLISH
X-WR-CALNAME:Recollected Pieces
X-ORIGINAL-URL:https://www.recollectedpieces.com
X-WR-CALDESC:Events for Recollected Pieces
REFRESH-INTERVAL;VALUE=DURATION:PT1H
X-Robots-Tag:noindex
X-PUBLISHED-TTL:PT1H
BEGIN:VTIMEZONE
TZID:UTC
BEGIN:STANDARD
TZOFFSETFROM:+0000
TZOFFSETTO:+0000
TZNAME:UTC
DTSTART:20230101T000000
END:STANDARD
END:VTIMEZONE
BEGIN:VEVENT
DTSTART;TZID=UTC:20240406T100000
DTEND;TZID=UTC:20240406T180000
DTSTAMP:20260425T024844
CREATED:20240127T192205Z
LAST-MODIFIED:20240127T192713Z
UID:13503-1712397600-1712426400@www.recollectedpieces.com
SUMMARY:Wooden Shoe Tulip Festival
DESCRIPTION:I’m so excited to returning to Woodburn for the Wooden Shoe Tulip Festival in 2024! \nI will be there on Saturdays and Sundays from March 23 – May 5. Can’t wait to see you there! \nClick here for more information about this incredible event.
URL:https://www.recollectedpieces.com/event/tulips040624/
LOCATION:Wooden Shoe Tulip Farm\, 33814 S. Meridian Rd.\, Woodburn\, OR\, 97071\, United States
CATEGORIES:Craft Fair
END:VEVENT
BEGIN:VEVENT
DTSTART;TZID=UTC:20240407T100000
DTEND;TZID=UTC:20240407T170000
DTSTAMP:20260425T024844
CREATED:20240127T192543Z
LAST-MODIFIED:20240127T192551Z
UID:13505-1712484000-1712509200@www.recollectedpieces.com
SUMMARY:Wooden Shoe Tulip Festival
DESCRIPTION:I’m so excited to returning to Woodburn for the Wooden Shoe Tulip Festival in 2024! \nI will be there on Saturdays and Sundays from March 23 – May 5. Can’t wait to see you there! \nClick here for more information about this incredible event.
URL:https://www.recollectedpieces.com/event/tulips040724/
LOCATION:Wooden Shoe Tulip Farm\, 33814 S. Meridian Rd.\, Woodburn\, OR\, 97071\, United States
CATEGORIES:Craft Fair
END:VEVENT
BEGIN:VEVENT
DTSTART;TZID=UTC:20240413T100000
DTEND;TZID=UTC:20240413T180000
DTSTAMP:20260425T024844
CREATED:20240127T192757Z
LAST-MODIFIED:20240127T192757Z
UID:13508-1713002400-1713031200@www.recollectedpieces.com
SUMMARY:Wooden Shoe Tulip Festival
DESCRIPTION:I’m so excited to returning to Woodburn for the Wooden Shoe Tulip Festival in 2024! \nI will be there on Saturdays and Sundays from March 23 – May 5. Can’t wait to see you there! \nClick here for more information about this incredible event.
URL:https://www.recollectedpieces.com/event/tulips041324/
LOCATION:Wooden Shoe Tulip Farm\, 33814 S. Meridian Rd.\, Woodburn\, OR\, 97071\, United States
CATEGORIES:Craft Fair
END:VEVENT
BEGIN:VEVENT
DTSTART;TZID=UTC:20240414T100000
DTEND;TZID=UTC:20240414T170000
DTSTAMP:20260425T024844
CREATED:20240127T192833Z
LAST-MODIFIED:20240127T192855Z
UID:13510-1713088800-1713114000@www.recollectedpieces.com
SUMMARY:Wooden Shoe Tulip Festival
DESCRIPTION:I’m so excited to returning to Woodburn for the Wooden Shoe Tulip Festival in 2024! \nI will be there on Saturdays and Sundays from March 23 – May 5. Can’t wait to see you there! \nClick here for more information about this incredible event.
URL:https://www.recollectedpieces.com/event/tulips041424/
LOCATION:Wooden Shoe Tulip Farm\, 33814 S. Meridian Rd.\, Woodburn\, OR\, 97071\, United States
CATEGORIES:Craft Fair
END:VEVENT
BEGIN:VEVENT
DTSTART;TZID=UTC:20240420T100000
DTEND;TZID=UTC:20240420T180000
DTSTAMP:20260425T024844
CREATED:20240127T192928Z
LAST-MODIFIED:20240127T192935Z
UID:13512-1713607200-1713636000@www.recollectedpieces.com
SUMMARY:Wooden Shoe Tulip Festival
DESCRIPTION:I’m so excited to returning to Woodburn for the Wooden Shoe Tulip Festival in 2024! \nI will be there on Saturdays and Sundays from March 23 – May 5. Can’t wait to see you there! \nClick here for more information about this incredible event.
URL:https://www.recollectedpieces.com/event/tulips042024/
LOCATION:Wooden Shoe Tulip Farm\, 33814 S. Meridian Rd.\, Woodburn\, OR\, 97071\, United States
CATEGORIES:Craft Fair
END:VEVENT
BEGIN:VEVENT
DTSTART;TZID=UTC:20240421T100000
DTEND;TZID=UTC:20240421T170000
DTSTAMP:20260425T024844
CREATED:20240127T193138Z
LAST-MODIFIED:20240127T193138Z
UID:13517-1713693600-1713718800@www.recollectedpieces.com
SUMMARY:Wooden Shoe Tulip Festival
DESCRIPTION:I’m so excited to returning to Woodburn for the Wooden Shoe Tulip Festival in 2024! \nI will be there on Saturdays and Sundays from March 23 – May 5. Can’t wait to see you there! \nClick here for more information about this incredible event.
URL:https://www.recollectedpieces.com/event/tulips042124/
LOCATION:Wooden Shoe Tulip Farm\, 33814 S. Meridian Rd.\, Woodburn\, OR\, 97071\, United States
CATEGORIES:Craft Fair
END:VEVENT
BEGIN:VEVENT
DTSTART;TZID=UTC:20240427T100000
DTEND;TZID=UTC:20240427T180000
DTSTAMP:20260425T024844
CREATED:20240127T193022Z
LAST-MODIFIED:20240127T193022Z
UID:13515-1714212000-1714240800@www.recollectedpieces.com
SUMMARY:Wooden Shoe Tulip Festival
DESCRIPTION:I’m so excited to returning to Woodburn for the Wooden Shoe Tulip Festival in 2024! \nI will be there on Saturdays and Sundays from March 23 – May 5. Can’t wait to see you there! \nClick here for more information about this incredible event.
URL:https://www.recollectedpieces.com/event/tulips042724/
LOCATION:Wooden Shoe Tulip Farm\, 33814 S. Meridian Rd.\, Woodburn\, OR\, 97071\, United States
CATEGORIES:Craft Fair
END:VEVENT
BEGIN:VEVENT
DTSTART;TZID=UTC:20240428T100000
DTEND;TZID=UTC:20240428T170000
DTSTAMP:20260425T024844
CREATED:20240127T222611Z
LAST-MODIFIED:20240127T222635Z
UID:13522-1714298400-1714323600@www.recollectedpieces.com
SUMMARY:Wooden Shoe Tulip Festival
DESCRIPTION:I’m so excited to returning to Woodburn for the Wooden Shoe Tulip Festival in 2024! \nI will be there on Saturdays and Sundays from March 23 – May 5. Can’t wait to see you there! \nClick here for more information about this incredible event.
URL:https://www.recollectedpieces.com/event/tulips042824/
LOCATION:Wooden Shoe Tulip Farm\, 33814 S. Meridian Rd.\, Woodburn\, OR\, 97071\, United States
CATEGORIES:Craft Fair
END:VEVENT
END:VCALENDAR