BEGIN:VCALENDAR
VERSION:2.0
PRODID:-//Recollected Pieces - ECPv6.15.20//NONSGML v1.0//EN
CALSCALE:GREGORIAN
METHOD:PUBLISH
X-ORIGINAL-URL:https://www.recollectedpieces.com
X-WR-CALDESC:Events for Recollected Pieces
REFRESH-INTERVAL;VALUE=DURATION:PT1H
X-Robots-Tag:noindex
X-PUBLISHED-TTL:PT1H
BEGIN:VTIMEZONE
TZID:UTC
BEGIN:STANDARD
TZOFFSETFROM:+0000
TZOFFSETTO:+0000
TZNAME:UTC
DTSTART:20220101T000000
END:STANDARD
END:VTIMEZONE
BEGIN:VEVENT
DTSTART;TZID=UTC:20230401T080000
DTEND;TZID=UTC:20230401T190000
DTSTAMP:20260425T212640
CREATED:20230601T022003Z
LAST-MODIFIED:20230601T022003Z
UID:13307-1680336000-1680375600@www.recollectedpieces.com
SUMMARY:Wooden Shoe Tulip Festival
DESCRIPTION:I’m so excited to returning to Woodburn for the Wooden Shoe Tulip Festival in 2023! \nI will be there on Saturdays and Sundays from March 18 – May 7. Can’t wait to see you there! \nClick here for more information about this incredible event.
URL:https://www.recollectedpieces.com/event/2023-tulip-festival-040123/
LOCATION:Wooden Shoe Tulip Farm\, 33814 S. Meridian Rd.\, Woodburn\, OR\, 97071\, United States
CATEGORIES:Craft Fair
ATTACH;FMTTYPE=image/jpeg:https://www.recollectedpieces.com/wp-content/uploads/2023/06/tulip-fest.jpeg
END:VEVENT
BEGIN:VEVENT
DTSTART;TZID=UTC:20230402T080000
DTEND;TZID=UTC:20230402T190000
DTSTAMP:20260425T212640
CREATED:20230601T022046Z
LAST-MODIFIED:20230601T022046Z
UID:13309-1680422400-1680462000@www.recollectedpieces.com
SUMMARY:Wooden Shoe Tulip Festival
DESCRIPTION:I’m so excited to returning to Woodburn for the Wooden Shoe Tulip Festival in 2023! \nI will be there on Saturdays and Sundays from March 18 – May 7. Can’t wait to see you there! \nClick here for more information about this incredible event.
URL:https://www.recollectedpieces.com/event/2023-tulip-festival-040223/
LOCATION:Wooden Shoe Tulip Farm\, 33814 S. Meridian Rd.\, Woodburn\, OR\, 97071\, United States
CATEGORIES:Craft Fair
ATTACH;FMTTYPE=image/jpeg:https://www.recollectedpieces.com/wp-content/uploads/2023/06/tulip-fest.jpeg
END:VEVENT
BEGIN:VEVENT
DTSTART;TZID=UTC:20230407T080000
DTEND;TZID=UTC:20230407T190000
DTSTAMP:20260425T212640
CREATED:20230601T022633Z
LAST-MODIFIED:20230601T022633Z
UID:13313-1680854400-1680894000@www.recollectedpieces.com
SUMMARY:Wooden Shoe Tulip Festival
DESCRIPTION:I’m so excited to returning to Woodburn for the Wooden Shoe Tulip Festival in 2023! \nI will be there on Saturdays and Sundays from March 18 – May 7. Can’t wait to see you there! \nClick here for more information about this incredible event.
URL:https://www.recollectedpieces.com/event/2023-tulip-festival-040723/
LOCATION:Wooden Shoe Tulip Farm\, 33814 S. Meridian Rd.\, Woodburn\, OR\, 97071\, United States
CATEGORIES:Craft Fair
ATTACH;FMTTYPE=image/jpeg:https://www.recollectedpieces.com/wp-content/uploads/2023/06/tulip-fest.jpeg
END:VEVENT
BEGIN:VEVENT
DTSTART;TZID=UTC:20230408T080000
DTEND;TZID=UTC:20230408T190000
DTSTAMP:20260425T212640
CREATED:20230601T022257Z
LAST-MODIFIED:20230601T022257Z
UID:13311-1680940800-1680980400@www.recollectedpieces.com
SUMMARY:Wooden Shoe Tulip Festival
DESCRIPTION:I’m so excited to returning to Woodburn for the Wooden Shoe Tulip Festival in 2023! \nI will be there on Saturdays and Sundays from March 18 – May 7. Can’t wait to see you there! \nClick here for more information about this incredible event.
URL:https://www.recollectedpieces.com/event/2023-tulip-festival-040823/
LOCATION:Wooden Shoe Tulip Farm\, 33814 S. Meridian Rd.\, Woodburn\, OR\, 97071\, United States
CATEGORIES:Craft Fair
ATTACH;FMTTYPE=image/jpeg:https://www.recollectedpieces.com/wp-content/uploads/2023/06/tulip-fest.jpeg
END:VEVENT
BEGIN:VEVENT
DTSTART;TZID=UTC:20230409T080000
DTEND;TZID=UTC:20230409T190000
DTSTAMP:20260425T212640
CREATED:20230601T022705Z
LAST-MODIFIED:20230601T022705Z
UID:13315-1681027200-1681066800@www.recollectedpieces.com
SUMMARY:Wooden Shoe Tulip Festival
DESCRIPTION:I’m so excited to returning to Woodburn for the Wooden Shoe Tulip Festival in 2023! \nI will be there on Saturdays and Sundays from March 18 – May 7. Can’t wait to see you there! \nClick here for more information about this incredible event.
URL:https://www.recollectedpieces.com/event/2023-tulip-festival-040923/
LOCATION:Wooden Shoe Tulip Farm\, 33814 S. Meridian Rd.\, Woodburn\, OR\, 97071\, United States
CATEGORIES:Craft Fair
ATTACH;FMTTYPE=image/jpeg:https://www.recollectedpieces.com/wp-content/uploads/2023/06/tulip-fest.jpeg
END:VEVENT
BEGIN:VEVENT
DTSTART;TZID=UTC:20230414T080000
DTEND;TZID=UTC:20230414T190000
DTSTAMP:20260425T212640
CREATED:20230601T022745Z
LAST-MODIFIED:20230601T022745Z
UID:13317-1681459200-1681498800@www.recollectedpieces.com
SUMMARY:Wooden Shoe Tulip Festival
DESCRIPTION:I’m so excited to returning to Woodburn for the Wooden Shoe Tulip Festival in 2023! \nI will be there on Saturdays and Sundays from March 18 – May 7. Can’t wait to see you there! \nClick here for more information about this incredible event.
URL:https://www.recollectedpieces.com/event/2023-tulip-festival-041423/
LOCATION:Wooden Shoe Tulip Farm\, 33814 S. Meridian Rd.\, Woodburn\, OR\, 97071\, United States
CATEGORIES:Craft Fair
ATTACH;FMTTYPE=image/jpeg:https://www.recollectedpieces.com/wp-content/uploads/2023/06/tulip-fest.jpeg
END:VEVENT
BEGIN:VEVENT
DTSTART;TZID=UTC:20230415T080000
DTEND;TZID=UTC:20230415T190000
DTSTAMP:20260425T212640
CREATED:20230601T022812Z
LAST-MODIFIED:20230601T022820Z
UID:13319-1681545600-1681585200@www.recollectedpieces.com
SUMMARY:Wooden Shoe Tulip Festival
DESCRIPTION:I’m so excited to returning to Woodburn for the Wooden Shoe Tulip Festival in 2023! \nI will be there on Saturdays and Sundays from March 18 – May 7. Can’t wait to see you there! \nClick here for more information about this incredible event.
URL:https://www.recollectedpieces.com/event/2023-tulip-festival-041523/
LOCATION:Wooden Shoe Tulip Farm\, 33814 S. Meridian Rd.\, Woodburn\, OR\, 97071\, United States
CATEGORIES:Craft Fair
ATTACH;FMTTYPE=image/jpeg:https://www.recollectedpieces.com/wp-content/uploads/2023/06/tulip-fest.jpeg
END:VEVENT
BEGIN:VEVENT
DTSTART;TZID=UTC:20230416T080000
DTEND;TZID=UTC:20230416T190000
DTSTAMP:20260425T212640
CREATED:20230601T023036Z
LAST-MODIFIED:20230601T023036Z
UID:13322-1681632000-1681671600@www.recollectedpieces.com
SUMMARY:Wooden Shoe Tulip Festival
DESCRIPTION:I’m so excited to returning to Woodburn for the Wooden Shoe Tulip Festival in 2023! \nI will be there on Saturdays and Sundays from March 18 – May 7. Can’t wait to see you there! \nClick here for more information about this incredible event.
URL:https://www.recollectedpieces.com/event/2023-tulip-festival-041623/
LOCATION:Wooden Shoe Tulip Farm\, 33814 S. Meridian Rd.\, Woodburn\, OR\, 97071\, United States
CATEGORIES:Craft Fair
ATTACH;FMTTYPE=image/jpeg:https://www.recollectedpieces.com/wp-content/uploads/2023/06/tulip-fest.jpeg
END:VEVENT
BEGIN:VEVENT
DTSTART;TZID=UTC:20230421T080000
DTEND;TZID=UTC:20230421T190000
DTSTAMP:20260425T212640
CREATED:20230601T023313Z
LAST-MODIFIED:20230601T023313Z
UID:13324-1682064000-1682103600@www.recollectedpieces.com
SUMMARY:Wooden Shoe Tulip Festival
DESCRIPTION:I’m so excited to returning to Woodburn for the Wooden Shoe Tulip Festival in 2023! \nI will be there on Saturdays and Sundays from March 18 – May 7. Can’t wait to see you there! \nClick here for more information about this incredible event.
URL:https://www.recollectedpieces.com/event/2023-tulip-festival-042123/
LOCATION:Wooden Shoe Tulip Farm\, 33814 S. Meridian Rd.\, Woodburn\, OR\, 97071\, United States
CATEGORIES:Craft Fair
ATTACH;FMTTYPE=image/jpeg:https://www.recollectedpieces.com/wp-content/uploads/2023/06/tulip-fest.jpeg
END:VEVENT
BEGIN:VEVENT
DTSTART;TZID=UTC:20230422T080000
DTEND;TZID=UTC:20230422T190000
DTSTAMP:20260425T212640
CREATED:20230601T023420Z
LAST-MODIFIED:20230601T023420Z
UID:13326-1682150400-1682190000@www.recollectedpieces.com
SUMMARY:Wooden Shoe Tulip Festival
DESCRIPTION:I’m so excited to returning to Woodburn for the Wooden Shoe Tulip Festival in 2023! \nI will be there on Saturdays and Sundays from March 18 – May 7. Can’t wait to see you there! \nClick here for more information about this incredible event.
URL:https://www.recollectedpieces.com/event/2023-tulip-festival-042223/
LOCATION:Wooden Shoe Tulip Farm\, 33814 S. Meridian Rd.\, Woodburn\, OR\, 97071\, United States
CATEGORIES:Craft Fair
ATTACH;FMTTYPE=image/jpeg:https://www.recollectedpieces.com/wp-content/uploads/2023/06/tulip-fest.jpeg
END:VEVENT
BEGIN:VEVENT
DTSTART;TZID=UTC:20230423T080000
DTEND;TZID=UTC:20230423T190000
DTSTAMP:20260425T212640
CREATED:20230601T023451Z
LAST-MODIFIED:20230601T023451Z
UID:13328-1682236800-1682276400@www.recollectedpieces.com
SUMMARY:Wooden Shoe Tulip Festival
DESCRIPTION:I’m so excited to returning to Woodburn for the Wooden Shoe Tulip Festival in 2023! \nI will be there on Saturdays and Sundays from March 18 – May 7. Can’t wait to see you there! \nClick here for more information about this incredible event.
URL:https://www.recollectedpieces.com/event/2023-tulip-festival-042323/
LOCATION:Wooden Shoe Tulip Farm\, 33814 S. Meridian Rd.\, Woodburn\, OR\, 97071\, United States
CATEGORIES:Craft Fair
ATTACH;FMTTYPE=image/jpeg:https://www.recollectedpieces.com/wp-content/uploads/2023/06/tulip-fest.jpeg
END:VEVENT
BEGIN:VEVENT
DTSTART;TZID=UTC:20230428T080000
DTEND;TZID=UTC:20230428T190000
DTSTAMP:20260425T212640
CREATED:20230601T023726Z
LAST-MODIFIED:20230601T023726Z
UID:13330-1682668800-1682708400@www.recollectedpieces.com
SUMMARY:Wooden Shoe Tulip Festival
DESCRIPTION:I’m so excited to returning to Woodburn for the Wooden Shoe Tulip Festival in 2023! \nI will be there on Saturdays and Sundays from March 18 – May 7. Can’t wait to see you there! \nClick here for more information about this incredible event.
URL:https://www.recollectedpieces.com/event/2023-tulip-festival-042823/
LOCATION:Wooden Shoe Tulip Farm\, 33814 S. Meridian Rd.\, Woodburn\, OR\, 97071\, United States
CATEGORIES:Craft Fair
ATTACH;FMTTYPE=image/jpeg:https://www.recollectedpieces.com/wp-content/uploads/2023/06/tulip-fest.jpeg
END:VEVENT
BEGIN:VEVENT
DTSTART;TZID=UTC:20230429T080000
DTEND;TZID=UTC:20230429T190000
DTSTAMP:20260425T212640
CREATED:20230601T023846Z
LAST-MODIFIED:20230601T023846Z
UID:13332-1682755200-1682794800@www.recollectedpieces.com
SUMMARY:Wooden Shoe Tulip Festival
DESCRIPTION:I’m so excited to returning to Woodburn for the Wooden Shoe Tulip Festival in 2023! \nI will be there on Saturdays and Sundays from March 18 – May 7. Can’t wait to see you there! \nClick here for more information about this incredible event.
URL:https://www.recollectedpieces.com/event/2023-tulip-festival-042923/
LOCATION:Wooden Shoe Tulip Farm\, 33814 S. Meridian Rd.\, Woodburn\, OR\, 97071\, United States
CATEGORIES:Craft Fair
ATTACH;FMTTYPE=image/jpeg:https://www.recollectedpieces.com/wp-content/uploads/2023/06/tulip-fest.jpeg
END:VEVENT
BEGIN:VEVENT
DTSTART;TZID=UTC:20230430T080000
DTEND;TZID=UTC:20230430T190000
DTSTAMP:20260425T212640
CREATED:20230601T023937Z
LAST-MODIFIED:20230601T023937Z
UID:13334-1682841600-1682881200@www.recollectedpieces.com
SUMMARY:Wooden Shoe Tulip Festival
DESCRIPTION:I’m so excited to returning to Woodburn for the Wooden Shoe Tulip Festival in 2023! \nI will be there on Saturdays and Sundays from March 18 – May 7. Can’t wait to see you there! \nClick here for more information about this incredible event.
URL:https://www.recollectedpieces.com/event/2023-tulip-festival-043023/
LOCATION:Wooden Shoe Tulip Farm\, 33814 S. Meridian Rd.\, Woodburn\, OR\, 97071\, United States
CATEGORIES:Craft Fair
ATTACH;FMTTYPE=image/jpeg:https://www.recollectedpieces.com/wp-content/uploads/2023/06/tulip-fest.jpeg
END:VEVENT
END:VCALENDAR