BEGIN:VCALENDAR
VERSION:2.0
PRODID:-//Recollected Pieces - ECPv6.15.20//NONSGML v1.0//EN
CALSCALE:GREGORIAN
METHOD:PUBLISH
X-ORIGINAL-URL:https://www.recollectedpieces.com
X-WR-CALDESC:Events for Recollected Pieces
REFRESH-INTERVAL;VALUE=DURATION:PT1H
X-Robots-Tag:noindex
X-PUBLISHED-TTL:PT1H
BEGIN:VTIMEZONE
TZID:UTC
BEGIN:STANDARD
TZOFFSETFROM:+0000
TZOFFSETTO:+0000
TZNAME:UTC
DTSTART:20240101T000000
END:STANDARD
END:VTIMEZONE
BEGIN:VEVENT
DTSTART;TZID=UTC:20250904T170000
DTEND;TZID=UTC:20250904T210000
DTSTAMP:20260424T042036
CREATED:20250306T061050Z
LAST-MODIFIED:20250831T173208Z
UID:13744-1757005200-1757019600@www.recollectedpieces.com
SUMMARY:September First Thursday (in the Pearl)
DESCRIPTION:The First Thursday Street Gallery takes place in NW Portland on 13th street between Irving and Lovejoy from 5 p.m. to 9 p.m showcasing original\, hand-made artwork by local area artists.
URL:https://www.recollectedpieces.com/event/090425-first-thursday/
LOCATION:First Thursday Street Gallery\, NW 13th street between Irving and Lovejoy\, Portland\, OR\, 97209\, United States
CATEGORIES:Community Event,Craft Fair
ATTACH;FMTTYPE=image/png:https://www.recollectedpieces.com/wp-content/uploads/2025/03/Screenshot-2025-03-05-at-9.56.41 PM.png
END:VEVENT
BEGIN:VEVENT
DTSTART;TZID=UTC:20250906T100000
DTEND;TZID=UTC:20250906T170000
DTSTAMP:20260424T042036
CREATED:20250816T070316Z
LAST-MODIFIED:20250816T070316Z
UID:14241-1757152800-1757178000@www.recollectedpieces.com
SUMMARY:Clinton Street Fair 2025
DESCRIPTION:Bringing the heart of Portland to life with an unforgettable day of local art\, music\, food\, and community vibes you won’t want to miss! \nHere’s what’s in store: \n\nLocal artists & unique vendors\nDelicious food stalls\nLive music\nKids Corner with fun activities\nFam Jam skateboard party … and SO much more!\n\nBring your crew\, your family\, your dog — and come celebrate this amazing neighborhood!\nSE 26th & Clinton \nFree & fun for all ages!
URL:https://www.recollectedpieces.com/event/clinton-street-fair-090625/
LOCATION:SE 26th & Clinton\, SE Clinton St & SE 26th Ave\, Portland\, OR\, 97202\, United States
CATEGORIES:Community Event,Craft Fair
ATTACH;FMTTYPE=image/jpeg:https://www.recollectedpieces.com/wp-content/uploads/2025/08/clinton-st-fair-2025.jpeg
END:VEVENT
BEGIN:VEVENT
DTSTART;TZID=UTC:20250913T100000
DTEND;TZID=UTC:20250913T170000
DTSTAMP:20260424T042036
CREATED:20250816T071115Z
LAST-MODIFIED:20250816T071115Z
UID:14246-1757757600-1757782800@www.recollectedpieces.com
SUMMARY:Belmont Street Fair 2025
DESCRIPTION:Get ready for one of Portland’s biggest block parties — the Belmont Street Fair is back! 🎉\nJoin us 2nd Saturday in September from 10 AM to 5 PM for a day packed with food\, fun\, and festivities! \nWe’re taking over the street with delicious eats\, unique local vendors\, and nonstop entertainment across 3 live music stages. Bring the whole crew — the Kids Zone is making a big comeback\, and there’s something for everyone to enjoy! \nMark your calendar\, grab your friends\, and don’t miss the fun — the Belmont Street Fair is where Portland comes to play!
URL:https://www.recollectedpieces.com/event/belmont-street-fair-091325/
LOCATION:SE Belmont Street & SE 35th Avenue\, SE Belmont Street & SE 35th Avenue\, Portland\, OR\, 97214\, United States
CATEGORIES:Community Event,Craft Fair
ATTACH;FMTTYPE=image/jpeg:https://www.recollectedpieces.com/wp-content/uploads/2025/08/BelmontStFair2025.jpeg
ORGANIZER;CN="Belmont Area Business Association":MAILTO:info@belmontdistrict.org
END:VEVENT
BEGIN:VEVENT
DTSTART;TZID=UTC:20250927T100000
DTEND;TZID=UTC:20250927T160000
DTSTAMP:20260424T042036
CREATED:20250919T203655Z
LAST-MODIFIED:20250919T203655Z
UID:14380-1758967200-1758988800@www.recollectedpieces.com
SUMMARY:Creators and Curators Harvest Market
DESCRIPTION:Vintage – Artisan – Food – Cocktails – Handmade – More
URL:https://www.recollectedpieces.com/event/cc-harvest-market-2025/
LOCATION:Milwaukie Floral\, 3306 SE Lake Road\, Milwaukie\, OR\, 97222\, United States
CATEGORIES:Community Event,Craft Fair
ATTACH;FMTTYPE=image/jpeg:https://www.recollectedpieces.com/wp-content/uploads/2025/09/HARVEST-MARKET-2025-1-1.jpg
ORGANIZER;CN="Creators and Curators Market":MAILTO:creatorsandcuratorsmarket@gmail.com
END:VEVENT
END:VCALENDAR