BEGIN:VCALENDAR
VERSION:2.0
PRODID:-//Recollected Pieces - ECPv6.15.20//NONSGML v1.0//EN
CALSCALE:GREGORIAN
METHOD:PUBLISH
X-WR-CALNAME:Recollected Pieces
X-ORIGINAL-URL:https://www.recollectedpieces.com
X-WR-CALDESC:Events for Recollected Pieces
REFRESH-INTERVAL;VALUE=DURATION:PT1H
X-Robots-Tag:noindex
X-PUBLISHED-TTL:PT1H
BEGIN:VTIMEZONE
TZID:UTC
BEGIN:STANDARD
TZOFFSETFROM:+0000
TZOFFSETTO:+0000
TZNAME:UTC
DTSTART:20230101T000000
END:STANDARD
END:VTIMEZONE
BEGIN:VEVENT
DTSTART;TZID=UTC:20240209T180000
DTEND;TZID=UTC:20240209T210000
DTSTAMP:20260425T122652
CREATED:20240122T004626Z
LAST-MODIFIED:20240122T005723Z
UID:13480-1707501600-1707512400@www.recollectedpieces.com
SUMMARY:Galentines at Hip Chicks do Wine 2024
DESCRIPTION:Round up yo \nRound up your girlfriends and join us for a Galentines Day event! Wine by the glass\, a specialty Wine “Cocktail” and a delectable small plate menu. Shop with our vendors: \n\nHelen Rose Skincare Co\nRecollected Pieces Jewelry\nVernoa Designs Gifts\nSparkle and Shades Sunglasses\nKind Candle Co\nChocolate Truffles by Blissful Wunders\nFun Photo Booth with Flashback Photography PDX!\n\nCheck out the event on Facebook for more details!
URL:https://www.recollectedpieces.com/event/galentines-hcdw-2024/
LOCATION:Hip Chicks Do Wine\, 4510 SE 23rd Ave\, Portland\, OR\, 97202\, United States
CATEGORIES:Craft Fair
ATTACH;FMTTYPE=image/jpeg:https://www.recollectedpieces.com/wp-content/uploads/2024/01/Galentines-Day-Facebook-Event-Cover.jpg
END:VEVENT
END:VCALENDAR