BEGIN:VCALENDAR
VERSION:2.0
PRODID:-//Recollected Pieces - ECPv6.15.20//NONSGML v1.0//EN
CALSCALE:GREGORIAN
METHOD:PUBLISH
X-ORIGINAL-URL:https://www.recollectedpieces.com
X-WR-CALDESC:Events for Recollected Pieces
REFRESH-INTERVAL;VALUE=DURATION:PT1H
X-Robots-Tag:noindex
X-PUBLISHED-TTL:PT1H
BEGIN:VTIMEZONE
TZID:UTC
BEGIN:STANDARD
TZOFFSETFROM:+0000
TZOFFSETTO:+0000
TZNAME:UTC
DTSTART:20230101T000000
END:STANDARD
END:VTIMEZONE
BEGIN:VEVENT
DTSTART;TZID=UTC:20241003T170000
DTEND;TZID=UTC:20241003T210000
DTSTAMP:20260425T104715
CREATED:20240910T211225Z
LAST-MODIFIED:20250306T055917Z
UID:13596-1727974800-1727989200@www.recollectedpieces.com
SUMMARY:First Thursday (in the Pearl)
DESCRIPTION:The First Thursday Street Gallery takes place in NW Portland on 13th street between Irving and Lovejoy from 5 p.m. to 9 p.m showcasing original\, hand-made artwork by local area artists.
URL:https://www.recollectedpieces.com/event/100324-first-thursday/
LOCATION:First Thursday Street Gallery\, NW 13th street between Irving and Lovejoy\, Portland\, OR\, 97209\, United States
CATEGORIES:Community Event,Craft Fair
ATTACH;FMTTYPE=image/png:https://www.recollectedpieces.com/wp-content/uploads/2024/07/First-Thursday.png
END:VEVENT
BEGIN:VEVENT
DTSTART;TZID=UTC:20241020T160000
DTEND;TZID=UTC:20241020T200000
DTSTAMP:20260425T104715
CREATED:20240930T212252Z
LAST-MODIFIED:20241008T223321Z
UID:13614-1729440000-1729454400@www.recollectedpieces.com
SUMMARY:Halloween Pop-Up at White Owl Social Club
DESCRIPTION:There will be a DJ\, featured drink specials\, tattoos AND A DOGGY COSTUME CONTEST! We will be taking donations at the door for a local rescue (pet food\, toys & supplies in demand). \nOh and there’s a covered\, heated patio.
URL:https://www.recollectedpieces.com/event/whiteowl-102024/
LOCATION:White Owl Social Club\, 1305 SE 8th Avenue\, Portland\, OR\, 97214\, United States
CATEGORIES:Craft Fair
ATTACH;FMTTYPE=image/jpeg:https://www.recollectedpieces.com/wp-content/uploads/2024/09/B4C671F2-D1B2-4D51-9B81-1980ECF86C81.jpg
ORGANIZER;CN="Staghorn PDX":MAILTO:shopstaghorn@gmail.com
END:VEVENT
END:VCALENDAR