BEGIN:VCALENDAR
VERSION:2.0
PRODID:-//Recollected Pieces - ECPv6.15.20//NONSGML v1.0//EN
CALSCALE:GREGORIAN
METHOD:PUBLISH
X-WR-CALNAME:Recollected Pieces
X-ORIGINAL-URL:https://www.recollectedpieces.com
X-WR-CALDESC:Events for Recollected Pieces
REFRESH-INTERVAL;VALUE=DURATION:PT1H
X-Robots-Tag:noindex
X-PUBLISHED-TTL:PT1H
BEGIN:VTIMEZONE
TZID:UTC
BEGIN:STANDARD
TZOFFSETFROM:+0000
TZOFFSETTO:+0000
TZNAME:UTC
DTSTART:20240101T000000
END:STANDARD
END:VTIMEZONE
BEGIN:VEVENT
DTSTART;TZID=UTC:20250802T100000
DTEND;TZID=UTC:20250802T160000
DTSTAMP:20260424T050025
CREATED:20250816T064117Z
LAST-MODIFIED:20250816T064117Z
UID:14231-1754128800-1754150400@www.recollectedpieces.com
SUMMARY:Summer Flowers at Wooden Shoe
DESCRIPTION:In 2024\, the Wooden Shoe Tulip Farm held their first annual Summer Flowers event showcasing a stunning 10-acre flower field of Sunflowers\, Zinnias\, Bachelor Button\, Calendula\, pink and white Cosmos\, and Godetia Lilac.  Guests were able to purchase u-pick flowers\, stroll through the sunflower maze\, take pictures at photo props throughout the fields\, and enjoy kids’ activities. \nThat was the beginning of a new tradition on the farm of offering sweet summer sunrises and sunsets over fields of summer flowers. Come enjoy the farm in mid-July until late August as they expand on this new tradition. Now offering 30 acres of summer blooms\, u-pick\, as well as shopping and food. Bring your sun hat and join in! \nVendors include Raw Oregon Honey and Zoe Jones Designs\, as well as Recollected Pieces. Check my calendar for the dates I will be there.
URL:https://www.recollectedpieces.com/event/summer-flowers-at-wooden-shoe-080225/
LOCATION:Wooden Shoe Tulip Farm\, 33814 S. Meridian Rd.\, Woodburn\, OR\, 97071\, United States
CATEGORIES:Community Event
ATTACH;FMTTYPE=image/png:https://www.recollectedpieces.com/wp-content/uploads/2025/08/event-covers-for-RP.png
END:VEVENT
BEGIN:VEVENT
DTSTART;TZID=UTC:20250803T100000
DTEND;TZID=UTC:20250803T160000
DTSTAMP:20260424T050025
CREATED:20250816T064304Z
LAST-MODIFIED:20250816T064304Z
UID:14233-1754215200-1754236800@www.recollectedpieces.com
SUMMARY:Summer Flowers at Wooden Shoe
DESCRIPTION:In 2024\, the Wooden Shoe Tulip Farm held their first annual Summer Flowers event showcasing a stunning 10-acre flower field of Sunflowers\, Zinnias\, Bachelor Button\, Calendula\, pink and white Cosmos\, and Godetia Lilac.  Guests were able to purchase u-pick flowers\, stroll through the sunflower maze\, take pictures at photo props throughout the fields\, and enjoy kids’ activities. \nThat was the beginning of a new tradition on the farm of offering sweet summer sunrises and sunsets over fields of summer flowers. Come enjoy the farm in mid-July until late August as they expand on this new tradition. Now offering 30 acres of summer blooms\, u-pick\, as well as shopping and food. Bring your sun hat and join in! \nVendors include Raw Oregon Honey and Zoe Jones Designs\, as well as Recollected Pieces. Check my calendar for the dates I will be there.
URL:https://www.recollectedpieces.com/event/summer-flowers-at-wooden-shoe-080325/
LOCATION:Wooden Shoe Tulip Farm\, 33814 S. Meridian Rd.\, Woodburn\, OR\, 97071\, United States
CATEGORIES:Community Event
ATTACH;FMTTYPE=image/png:https://www.recollectedpieces.com/wp-content/uploads/2025/08/event-covers-for-RP.png
END:VEVENT
BEGIN:VEVENT
DTSTART;TZID=UTC:20250807T170000
DTEND;TZID=UTC:20250807T210000
DTSTAMP:20260424T050025
CREATED:20250306T060856Z
LAST-MODIFIED:20250306T060856Z
UID:13741-1754586000-1754600400@www.recollectedpieces.com
SUMMARY:August First Thursday (in the Pearl)
DESCRIPTION:The First Thursday Street Gallery takes place in NW Portland on 13th street between Irving and Lovejoy from 5 p.m. to 9 p.m showcasing original\, hand-made artwork by local area artists.
URL:https://www.recollectedpieces.com/event/080725-first-thursday/
LOCATION:First Thursday Street Gallery\, NW 13th street between Irving and Lovejoy\, Portland\, OR\, 97209\, United States
CATEGORIES:Community Event,Craft Fair
ATTACH;FMTTYPE=image/png:https://www.recollectedpieces.com/wp-content/uploads/2025/03/Screenshot-2025-03-05-at-9.56.41 PM.png
END:VEVENT
BEGIN:VEVENT
DTSTART;TZID=UTC:20250809T090000
DTEND;TZID=UTC:20250809T160000
DTSTAMP:20260424T050025
CREATED:20250603T165328Z
LAST-MODIFIED:20250603T165357Z
UID:13966-1754730000-1754755200@www.recollectedpieces.com
SUMMARY:Oregon City Festival of the Arts
DESCRIPTION:Join us for Oregon City’s Premier Arts Event. There will be art for all tastes and ages. 50+ art booths\, several food and beverage options\, and live music! \nDetails for 2025 event are still being put together\, so watch for social media updates. \nAs always\, this event is free and open to the public! \nThe exciting partnership with Soulflags will once again provide children’s art activities both days. There is a great line-up of musical talent on the mainstage and will include Oregon City Porchfest performances in the garden. \nShopping and dancing are going to create a big appetite! There will be great options for food and drinks. \nIn lieu of their traditional silent auction to help support the arts\, this year they will have a variety of 6 x 6 art pieces for you to purchase in their pop-up gallery. No need to monitor recent bids or wait to see if you’ve won. If you love it\, buy it\, & take it with you! Instant gratification 🙂 All proceeds go towards ensuring that more of these free local art events can happen in the future.
URL:https://www.recollectedpieces.com/event/ocfa-08092025/
LOCATION:End of the Oregon Trail Interpretive Center\, 1726 Washington St\, Oregon City\, 97045\, United States
CATEGORIES:Community Event,Craft Fair
ATTACH;FMTTYPE=image/jpeg:https://www.recollectedpieces.com/wp-content/uploads/2025/06/OC-FOTA.jpg
ORGANIZER;CN="Three Rivers Artist Guild":MAILTO:president@threeriversartistguild.com
END:VEVENT
END:VCALENDAR