BEGIN:VCALENDAR
VERSION:2.0
PRODID:-//Recollected Pieces - ECPv6.15.20//NONSGML v1.0//EN
CALSCALE:GREGORIAN
METHOD:PUBLISH
X-WR-CALNAME:Recollected Pieces
X-ORIGINAL-URL:https://www.recollectedpieces.com
X-WR-CALDESC:Events for Recollected Pieces
REFRESH-INTERVAL;VALUE=DURATION:PT1H
X-Robots-Tag:noindex
X-PUBLISHED-TTL:PT1H
BEGIN:VTIMEZONE
TZID:UTC
BEGIN:STANDARD
TZOFFSETFROM:+0000
TZOFFSETTO:+0000
TZNAME:UTC
DTSTART:20220101T000000
END:STANDARD
END:VTIMEZONE
BEGIN:VEVENT
DTSTART;TZID=UTC:20231210T100000
DTEND;TZID=UTC:20231210T180000
DTSTAMP:20260425T115835
CREATED:20231022T175808Z
LAST-MODIFIED:20231022T175808Z
UID:13478-1702202400-1702231200@www.recollectedpieces.com
SUMMARY:Crafty Wonderland Holiday Art + Craft Market!
DESCRIPTION:BUY AMAZING HANDMADE GOODS from over 275 TALENTED ARTISTS\, CRAFTERS + DESIGNERS!\nSupport local artists + makers and buy one-of-a-kind gifts for everyone on your list – including yourself!\n\nIn order to control the large crowds we are doing timed admission throughout the day on both Saturday and Sunday in addition to the usual ticketed Friday Night Pre-Show Party. So EVERYONE ATTENDING THE EVENT WILL NEED A TICKET (with the exception of kids 5 and under)! We encourage you to purchase tickets ahead of time as the Friday Night Party ALWAYS sells out and we expect some time slots on Saturday and Sunday to sell out. Tickets will be available at the event for time slots that are not already sold out.\n\nCRAFTY WONDERLAND HOLIDAY ART + CRAFT MARKET\nGENERAL ADMISSION – TIMED ENTRY EVERY HOUR\nSaturday\, December 9th from 10am – 6pm\nSunday\, December 10th from 10am – 6pm\n$4 total\nCRAFTY WONDERLAND FIRST PICK PRE-SHOW PARTY\nFriday\, December 8th from 5-9pm\n$25 total\nIncludes one free drink of your choice at the cash bar (a $15 value)!\n**Please beware of individuals offering tickets or vendor booths for sale! These are scams! We NEVER sell vendor booths or tickets here. Only use our verified ticketing agency. Tickets West!\nat the OREGON CONVENTION CENTER\nEXHIBIT HALL D\n777 NE MLK Jr. Blvd\nPortland\, OR\nMORE DETAILS + A FULL VENDOR LIST:\nhttps://craftywonderland.com/pages/vendor-list\nPURCHASE TICKETS:\nhttps://www.ticketswest.com/…/crafty-wonderland-first…\nSEE OUR COVID GUIDELINES:\nhttps://craftywonderland.com/pages/covid-19\nWe hope you can join us! You don’t want to miss this – it’s going to be HUGE!\nBUY LOCAL! BUY HANDMADE! MEET THE MAKERS!
URL:https://www.recollectedpieces.com/event/cw-2023-sun/
LOCATION:Oregon Convention Center\, 777 NE Martin Luther King Jr Blvd\, Portland\, OR\, 97232\, United States
CATEGORIES:Craft Fair
ATTACH;FMTTYPE=image/jpeg:https://www.recollectedpieces.com/wp-content/uploads/2023/10/CW-2023.jpeg
END:VEVENT
END:VCALENDAR