BEGIN:VCALENDAR
VERSION:2.0
PRODID:-//Recollected Pieces - ECPv6.15.20//NONSGML v1.0//EN
CALSCALE:GREGORIAN
METHOD:PUBLISH
X-WR-CALNAME:Recollected Pieces
X-ORIGINAL-URL:https://www.recollectedpieces.com
X-WR-CALDESC:Events for Recollected Pieces
REFRESH-INTERVAL;VALUE=DURATION:PT1H
X-Robots-Tag:noindex
X-PUBLISHED-TTL:PT1H
BEGIN:VTIMEZONE
TZID:UTC
BEGIN:STANDARD
TZOFFSETFROM:+0000
TZOFFSETTO:+0000
TZNAME:UTC
DTSTART:20240101T000000
END:STANDARD
END:VTIMEZONE
BEGIN:VEVENT
DTSTART;TZID=UTC:20250622T110000
DTEND;TZID=UTC:20250622T170000
DTSTAMP:20260424T091656
CREATED:20250306T070120Z
LAST-MODIFIED:20250306T070120Z
UID:13763-1750590000-1750611600@www.recollectedpieces.com
SUMMARY:Tigard Festival of Balloons
DESCRIPTION:Welcome to the event that celebrates our community\, the Festival of Balloons in Tigard! The hot air balloons are definitely the featured attraction of the Festival\, but… it’s MORE than balloons! The Festival is a place for families and friends to gather\, play and relax. Join the event in the pre-dawn hours as hot air balloons launch into the morning sky (weather and pilot permitting). Spend the afternoon shopping at the craft and vendor booths\, eating great food from local food vendors\, and enjoying thrilling Funtastic carnival rides and games. Of course\, it wouldn’t be the Festival of Balloons without the ever-impressive NW Natural Night Glow (weather permitting)\, the Rogue Ales Beer Garden\, Main Stage Entertainment Presented by Krista Britton\, Hillshire Realty Group|REAL\, Festival of Cars presented by Landmark Ford\, Kid’s Zone and a whole lot more! Check out the Schedule of Events for complete details.
URL:https://www.recollectedpieces.com/event/062225-tigard-festival-of-balloons/
LOCATION:Cook Family Park\, 17005 SW 92nd Ave\, Tigard\, OR\, 97224\, United States
CATEGORIES:Community Event,Craft Fair
ATTACH;FMTTYPE=image/png:https://www.recollectedpieces.com/wp-content/uploads/2025/03/2025-Tigard-Festival-of-balloons.png
ORGANIZER;CN="Tigard Festival of Balloons":MAILTO:info@tigardballoon.org
END:VEVENT
END:VCALENDAR